BEGIN:VCALENDAR
VERSION:2.0
PRODID:-//Decoding Dyslexia Minnesota - ECPv6.15.20//NONSGML v1.0//EN
CALSCALE:GREGORIAN
METHOD:PUBLISH
X-ORIGINAL-URL:https://decodingdyslexiamn.org
X-WR-CALDESC:Events for Decoding Dyslexia Minnesota
REFRESH-INTERVAL;VALUE=DURATION:PT1H
X-Robots-Tag:noindex
X-PUBLISHED-TTL:PT1H
BEGIN:VTIMEZONE
TZID:America/Chicago
BEGIN:DAYLIGHT
TZOFFSETFROM:-0600
TZOFFSETTO:-0500
TZNAME:CDT
DTSTART:20250309T080000
END:DAYLIGHT
BEGIN:STANDARD
TZOFFSETFROM:-0500
TZOFFSETTO:-0600
TZNAME:CST
DTSTART:20251102T070000
END:STANDARD
BEGIN:DAYLIGHT
TZOFFSETFROM:-0600
TZOFFSETTO:-0500
TZNAME:CDT
DTSTART:20260308T080000
END:DAYLIGHT
BEGIN:STANDARD
TZOFFSETFROM:-0500
TZOFFSETTO:-0600
TZNAME:CST
DTSTART:20261101T070000
END:STANDARD
BEGIN:DAYLIGHT
TZOFFSETFROM:-0600
TZOFFSETTO:-0500
TZNAME:CDT
DTSTART:20270314T080000
END:DAYLIGHT
BEGIN:STANDARD
TZOFFSETFROM:-0500
TZOFFSETTO:-0600
TZNAME:CST
DTSTART:20271107T070000
END:STANDARD
END:VTIMEZONE
BEGIN:VEVENT
DTSTART;TZID=America/Chicago:20260210T193000
DTEND;TZID=America/Chicago:20260210T203000
DTSTAMP:20260425T054721
CREATED:20260127T125600Z
LAST-MODIFIED:20260127T125600Z
UID:5674-1770751800-1770755400@decodingdyslexiamn.org
SUMMARY:DDMN Webinar: K-3 School Reading Screeners: What families need to know.
DESCRIPTION:If you have a K–3 student\, their reading skills are being assessed three times a year—but what do those results actually mean? And how can they help you support a struggling reader? Join us for a clear and informative webinar that breaks down the FastBridge and DIBELS screening tools. Learn how to interpret the data\, what it reveals about your child’s reading development\, and how to use this insight to advocate for the support they need. Perfect for parents who want to turn confusion into confidence when it comes to reading assessments.\nFREE to attend. Registration required. \nRegistration Link: https://us02web.zoom.us/meeting/register/2DumXs7gRu6cWXDSVrjlHQ \nDue to the discussion of minors\, Decoding Dyslexia Minnesota prohibits videotaping and the improper disclosure of personally identifiable information derived from the discussion.
URL:https://decodingdyslexiamn.org/event/ddmn-webinar-k-3-school-reading-screeners-what-families-need-to-know-7/
LOCATION:Zoom
CATEGORIES:Virtual Monthly Parent Talks
ATTACH;FMTTYPE=image/jpeg:https://decodingdyslexiamn.org/wp-content/uploads/2025/04/AdobeStock_496016285-scaled.jpeg
END:VEVENT
BEGIN:VEVENT
DTSTART;TZID=America/Chicago:20260217T193000
DTEND;TZID=America/Chicago:20260217T203000
DTSTAMP:20260425T054721
CREATED:20260127T125803Z
LAST-MODIFIED:20260127T125803Z
UID:5676-1771356600-1771360200@decodingdyslexiamn.org
SUMMARY:DDMN Webinar: Preparing for an IEP or 504 Meeting
DESCRIPTION:Navigating an IEP or 504 meeting can feel overwhelming if you’re unsure what to expect or how to prepare. Join us for an insightful presentation filled with practical tips and strategies to help you confidently advocate for your struggling reader. Empower yourself with the knowledge and tools to make the meeting productive and impactful! \nFREE to attend: https://us02web.zoom.us/meeting/register/AuTbtnUnQWSC7jtgQJP94Q \nDue to the discussion of minors\, Decoding Dyslexia Minnesota prohibits videotaping and the improper disclosure of personally identifiable information derived from the discussion.
URL:https://decodingdyslexiamn.org/event/ddmn-webinar-preparing-for-an-iep-or-504-meeting-7/
LOCATION:Zoom
CATEGORIES:Virtual Monthly Parent Talks
ATTACH;FMTTYPE=image/jpeg:https://decodingdyslexiamn.org/wp-content/uploads/2023/09/AdobeStock_86712428-scaled.jpeg
END:VEVENT
BEGIN:VEVENT
DTSTART;TZID=America/Chicago:20260219T193000
DTEND;TZID=America/Chicago:20260219T203000
DTSTAMP:20260425T054721
CREATED:20260127T130003Z
LAST-MODIFIED:20260127T130003Z
UID:5678-1771529400-1771533000@decodingdyslexiamn.org
SUMMARY:DDMN Webinar: SMART goals and accommodations
DESCRIPTION:Are you wondering how to ensure your child’s IEP sets them up for success? Curious about SMART goals and the accommodations that best support their needs? Join us for an empowering presentation where we’ll break it all down\, answer your questions\, and equip you with the knowledge to advocate with confidence! \nFREE to attend. Registration required. \nRegistration Link: https://us02web.zoom.us/meeting/register/AZrQKl6lTnqh2h8sjyA5Qw \nDue to the discussion of minors\, Decoding Dyslexia Minnesota prohibits videotaping and the improper disclosure of personally identifiable information derived from the discussion.
URL:https://decodingdyslexiamn.org/event/ddmn-webinar-smart-goals-and-accommodations-7/
LOCATION:Zoom
CATEGORIES:Virtual Monthly Parent Talks
ATTACH;FMTTYPE=image/jpeg:https://decodingdyslexiamn.org/wp-content/uploads/2023/09/photo-girl.jpg
END:VEVENT
BEGIN:VEVENT
DTSTART;TZID=America/Chicago:20260303T193000
DTEND;TZID=America/Chicago:20260303T203000
DTSTAMP:20260425T054721
CREATED:20260223T151727Z
LAST-MODIFIED:20260223T151727Z
UID:5812-1772566200-1772569800@decodingdyslexiamn.org
SUMMARY:DDMN Webinar: New to Dyslexia
DESCRIPTION:Is your child struggling to read? Have you recently received a dyslexia diagnosis and feel unsure about what comes next? If you’re feeling overwhelmed or frustrated by limited support at school\, you’re not alone. Join Decoding Dyslexia Minnesota for an informative and empowering webinar designed specifically for parents navigating a new dyslexia diagnosis. We’ll explore what dyslexia is\, how it affects learning\, and where to find trusted resources to support your child’s success. Please note: This session is tailored for parents and caregivers—not intended for school administrators.\nFREE to attend; registration is required.https://us02web.zoom.us/meeting/register/NieZsSnzSIa_WrwBgf0Tpg \nRegistration Link: \nDue to the discussion of minors\, Decoding Dyslexia Minnesota prohibits videotaping and the improper disclosure of personally identifiable information derived from the discussion. \n 
URL:https://decodingdyslexiamn.org/event/ddmn-webinar-new-to-dyslexia-10/
LOCATION:Zoom
CATEGORIES:Virtual Monthly Parent Talks
ATTACH;FMTTYPE=image/jpeg:https://decodingdyslexiamn.org/wp-content/uploads/2023/09/AdobeStock_292867136-scaled.jpeg
END:VEVENT
BEGIN:VEVENT
DTSTART;TZID=America/Chicago:20260309T193000
DTEND;TZID=America/Chicago:20260309T203000
DTSTAMP:20260425T054721
CREATED:20260223T152042Z
LAST-MODIFIED:20260223T152042Z
UID:5816-1773084600-1773088200@decodingdyslexiamn.org
SUMMARY:DDMN Webinar: K-3 School Reading Screeners: What families need to know.
DESCRIPTION:If you have a K–3 student\, their reading skills are being assessed three times a year—but what do those results actually mean? And how can they help you support a struggling reader? Join us for a clear and informative webinar that breaks down the FastBridge and DIBELS screening tools. Learn how to interpret the data\, what it reveals about your child’s reading development\, and how to use this insight to advocate for the support they need. Perfect for parents who want to turn confusion into confidence when it comes to reading assessments.\nFREE to attend. Registration required. \nRegistration Link: https://us02web.zoom.us/meeting/register/nKTeW-QIQqi8B33ZOxlc_Q \nDue to the discussion of minors\, Decoding Dyslexia Minnesota prohibits videotaping and the improper disclosure of personally identifiable information derived from the discussion.
URL:https://decodingdyslexiamn.org/event/ddmn-webinar-k-3-school-reading-screeners-what-families-need-to-know-8/
LOCATION:Zoom
CATEGORIES:Virtual Monthly Parent Talks
ATTACH;FMTTYPE=image/jpeg:https://decodingdyslexiamn.org/wp-content/uploads/2025/04/AdobeStock_294659205-scaled.jpeg
END:VEVENT
BEGIN:VEVENT
DTSTART;TZID=America/Chicago:20260310T193000
DTEND;TZID=America/Chicago:20260310T203000
DTSTAMP:20260425T054721
CREATED:20260223T152204Z
LAST-MODIFIED:20260223T152204Z
UID:5818-1773171000-1773174600@decodingdyslexiamn.org
SUMMARY:DDMN Webinar: Assistive Technology for Struggling Readers
DESCRIPTION:Are you looking for tools to help your child thrive in reading? Assistive technology can make a world of difference—but knowing where to start can feel overwhelming. Join us for a practical and informative webinar where we’ll guide you through the best places to discover assistive technology designed for struggling readers. Learn how to explore available options\, try out products\, and find the right fit for your child’s unique needs. Empower your journey with tools that support reading success!\nFree to attend. Registration Required. \nRegistration Link: https://us02web.zoom.us/meeting/register/2gbJrKp0TpWa8JxroSmZ9Q \nDue to the discussion of minors\, Decoding Dyslexia Minnesota prohibits videotaping and the improper disclosure of personally identifiable information derived from the discussion.
URL:https://decodingdyslexiamn.org/event/ddmn-webinar-assistive-technology-for-struggling-readers-9/
LOCATION:Zoom
CATEGORIES:Virtual Monthly Parent Talks
ATTACH;FMTTYPE=image/jpeg:https://decodingdyslexiamn.org/wp-content/uploads/2025/04/AdobeStock_459807513-scaled.jpeg
END:VEVENT
BEGIN:VEVENT
DTSTART;TZID=America/Chicago:20260322T140000
DTEND;TZID=America/Chicago:20260322T150000
DTSTAMP:20260425T054721
CREATED:20260223T152835Z
LAST-MODIFIED:20260223T152835Z
UID:5824-1774188000-1774191600@decodingdyslexiamn.org
SUMMARY:DDMN Webinar: Preparing for an IEP or 504 Meeting
DESCRIPTION:Navigating an IEP or 504 meeting can feel overwhelming if you’re unsure what to expect or how to prepare. Join us for an insightful presentation filled with practical tips and strategies to help you confidently advocate for your struggling reader. Empower yourself with the knowledge and tools to make the meeting productive and impactful! \nFREE to attend: https://us02web.zoom.us/meeting/register/Uk0-0axlSe2y-2qruRE0Bg \nDue to the discussion of minors\, Decoding Dyslexia Minnesota prohibits videotaping and the improper disclosure of personally identifiable information derived from the discussion.
URL:https://decodingdyslexiamn.org/event/ddmn-webinar-preparing-for-an-iep-or-504-meeting-8/
LOCATION:Zoom
CATEGORIES:Virtual Monthly Parent Talks
ATTACH;FMTTYPE=image/jpeg:https://decodingdyslexiamn.org/wp-content/uploads/2023/09/AdobeStock_337195787-scaled.jpeg
END:VEVENT
BEGIN:VEVENT
DTSTART;TZID=America/Chicago:20260330T193000
DTEND;TZID=America/Chicago:20260330T203000
DTSTAMP:20260425T054721
CREATED:20260223T153010Z
LAST-MODIFIED:20260223T153010Z
UID:5826-1774899000-1774902600@decodingdyslexiamn.org
SUMMARY:DDMN Webinar: SMART goals and accommodations
DESCRIPTION:Are you wondering how to ensure your child’s IEP sets them up for success? Curious about SMART goals and the accommodations that best support their needs? Join us for an empowering presentation where we’ll break it all down\, answer your questions\, and equip you with the knowledge to advocate with confidence! \nFREE to attend. Registration required. \nRegistration Link: https://us02web.zoom.us/meeting/register/EPojtBm7TXCiwLtxDlkw7g \nDue to the discussion of minors\, Decoding Dyslexia Minnesota prohibits videotaping and the improper disclosure of personally identifiable information derived from the discussion.
URL:https://decodingdyslexiamn.org/event/ddmn-webinar-smart-goals-and-accommodations-8/
LOCATION:Zoom
CATEGORIES:Virtual Monthly Parent Talks
ATTACH;FMTTYPE=image/jpeg:https://decodingdyslexiamn.org/wp-content/uploads/2023/09/photo2.jpg
END:VEVENT
BEGIN:VEVENT
DTSTART;TZID=America/Chicago:20260402T193000
DTEND;TZID=America/Chicago:20260402T203000
DTSTAMP:20260425T054721
CREATED:20260320T001050Z
LAST-MODIFIED:20260320T001050Z
UID:5985-1775158200-1775161800@decodingdyslexiamn.org
SUMMARY:DDMN Webinar: New to Dyslexia
DESCRIPTION:Is your child struggling to read? Have you recently received a dyslexia diagnosis and feel unsure about what comes next? If you’re feeling overwhelmed or frustrated by limited support at school\, you’re not alone. Join Decoding Dyslexia Minnesota for an informative and empowering webinar designed specifically for parents navigating a new dyslexia diagnosis. We’ll explore what dyslexia is\, how it affects learning\, and where to find trusted resources to support your child’s success. Please note: This session is tailored for parents and caregivers—not intended for school administrators.\nFREE to attend; registration is required. https://us02web.zoom.us/meeting/register/fImnEw3IR1uYdQ0LqSgL-Q \nRegistration Link: \nDue to the discussion of minors\, Decoding Dyslexia Minnesota prohibits videotaping and the improper disclosure of personally identifiable information derived from the discussion. \n 
URL:https://decodingdyslexiamn.org/event/ddmn-webinar-new-to-dyslexia-11/
LOCATION:Zoom
CATEGORIES:Virtual Monthly Parent Talks
ATTACH;FMTTYPE=image/jpeg:https://decodingdyslexiamn.org/wp-content/uploads/2023/09/AdobeStock_277117093-scaled.jpeg
END:VEVENT
BEGIN:VEVENT
DTSTART;TZID=America/Chicago:20260407T193000
DTEND;TZID=America/Chicago:20260407T203000
DTSTAMP:20260425T054721
CREATED:20260320T001155Z
LAST-MODIFIED:20260320T001155Z
UID:5987-1775590200-1775593800@decodingdyslexiamn.org
SUMMARY:DDMN Webinar: K-3 School Reading Screeners: What families need to know.
DESCRIPTION:If you have a K–3 student\, their reading skills are being assessed three times a year—but what do those results actually mean? And how can they help you support a struggling reader? Join us for a clear and informative webinar that breaks down the FastBridge and DIBELS screening tools. Learn how to interpret the data\, what it reveals about your child’s reading development\, and how to use this insight to advocate for the support they need. Perfect for parents who want to turn confusion into confidence when it comes to reading assessments.\nFREE to attend. Registration required. \nRegistration Link: https://us02web.zoom.us/meeting/register/jIcKOHeZT7aoF_WxHEb0IA \nDue to the discussion of minors\, Decoding Dyslexia Minnesota prohibits videotaping and the improper disclosure of personally identifiable information derived from the discussion.
URL:https://decodingdyslexiamn.org/event/ddmn-webinar-k-3-school-reading-screeners-what-families-need-to-know-9/
LOCATION:Zoom
CATEGORIES:Virtual Monthly Parent Talks
ATTACH;FMTTYPE=image/jpeg:https://decodingdyslexiamn.org/wp-content/uploads/2025/04/AdobeStock_496016285-scaled.jpeg
END:VEVENT
BEGIN:VEVENT
DTSTART;TZID=America/Chicago:20260412T140000
DTEND;TZID=America/Chicago:20260412T150000
DTSTAMP:20260425T054721
CREATED:20260320T001346Z
LAST-MODIFIED:20260320T001346Z
UID:5989-1776002400-1776006000@decodingdyslexiamn.org
SUMMARY:DDMN Webinar: Assistive Technology for Struggling Readers
DESCRIPTION:Are you looking for tools to help your child thrive in reading? Assistive technology can make a world of difference—but knowing where to start can feel overwhelming. Join us for a practical and informative webinar where we’ll guide you through the best places to discover assistive technology designed for struggling readers. Learn how to explore available options\, try out products\, and find the right fit for your child’s unique needs. Empower your journey with tools that support reading success!\nFree to attend. Registration Required. \nRegistration Link: https://us02web.zoom.us/meeting/register/ywA4NYA4QImxEXVkVq-hAg \nDue to the discussion of minors\, Decoding Dyslexia Minnesota prohibits videotaping and the improper disclosure of personally identifiable information derived from the discussion.
URL:https://decodingdyslexiamn.org/event/ddmn-webinar-assistive-technology-for-struggling-readers-10/
LOCATION:Zoom
CATEGORIES:Virtual Monthly Parent Talks
ATTACH;FMTTYPE=image/jpeg:https://decodingdyslexiamn.org/wp-content/uploads/2023/09/AdobeStock_471838919-scaled.jpeg
END:VEVENT
BEGIN:VEVENT
DTSTART;TZID=America/Chicago:20260420T193000
DTEND;TZID=America/Chicago:20260420T203000
DTSTAMP:20260425T054721
CREATED:20260320T001632Z
LAST-MODIFIED:20260320T001632Z
UID:5993-1776713400-1776717000@decodingdyslexiamn.org
SUMMARY:DDMN Webinar: Preparing for an IEP or 504 Meeting
DESCRIPTION:Navigating an IEP or 504 meeting can feel overwhelming if you’re unsure what to expect or how to prepare. Join us for an insightful presentation filled with practical tips and strategies to help you confidently advocate for your struggling reader. Empower yourself with the knowledge and tools to make the meeting productive and impactful! \nFREE to attend: https://us02web.zoom.us/meeting/register/GEKf-Ma3Sg2kXw7oiKw6zQ \nDue to the discussion of minors\, Decoding Dyslexia Minnesota prohibits videotaping and the improper disclosure of personally identifiable information derived from the discussion.
URL:https://decodingdyslexiamn.org/event/ddmn-webinar-preparing-for-an-iep-or-504-meeting-9/
LOCATION:Zoom
CATEGORIES:Virtual Monthly Parent Talks
ATTACH;FMTTYPE=image/jpeg:https://decodingdyslexiamn.org/wp-content/uploads/2023/09/AdobeStock_119867564-scaled.jpeg
END:VEVENT
BEGIN:VEVENT
DTSTART;TZID=America/Chicago:20260422T193000
DTEND;TZID=America/Chicago:20260422T203000
DTSTAMP:20260425T054721
CREATED:20260320T001755Z
LAST-MODIFIED:20260320T001755Z
UID:5995-1776886200-1776889800@decodingdyslexiamn.org
SUMMARY:DDMN Webinar: SMART goals and accommodations
DESCRIPTION:Are you wondering how to ensure your child’s IEP sets them up for success? Curious about SMART goals and the accommodations that best support their needs? Join us for an empowering presentation where we’ll break it all down\, answer your questions\, and equip you with the knowledge to advocate with confidence! \nFREE to attend. Registration required. \nRegistration Link: https://us02web.zoom.us/meeting/register/yDc4w_PYQ6GBRSJMy-f6Iw \nDue to the discussion of minors\, Decoding Dyslexia Minnesota prohibits videotaping and the improper disclosure of personally identifiable information derived from the discussion.
URL:https://decodingdyslexiamn.org/event/ddmn-webinar-smart-goals-and-accommodations-9/
LOCATION:Zoom
CATEGORIES:Virtual Monthly Parent Talks
ATTACH;FMTTYPE=image/jpeg:https://decodingdyslexiamn.org/wp-content/uploads/2025/03/AdobeStock_288862653-scaled.jpeg
END:VEVENT
BEGIN:VEVENT
DTSTART;TZID=America/Chicago:20260430T193000
DTEND;TZID=America/Chicago:20260430T203000
DTSTAMP:20260425T054721
CREATED:20260320T002722Z
LAST-MODIFIED:20260320T002722Z
UID:6001-1777577400-1777581000@decodingdyslexiamn.org
SUMMARY:DDMN Webinar: 504 Plans
DESCRIPTION:Is your child unable to get an IEP? Are you wondering about a 504 plan? What are the differences\, the process\, and what are your legal rights? Join us for this informative presentation for answers to these questions and more. \nFree to attend. Registration is required. \nRegistration link:https://us02web.zoom.us/meeting/register/8Vfz-nUXSESYseoV-SrIcg \nDue to the discussion of minors\, Decoding Dyslexia Minnesota prohibits videotaping and the improper disclosure of personally identifiable information derived from the discussion.
URL:https://decodingdyslexiamn.org/event/ddmn-webinar-504-plans-5/
LOCATION:Zoom
CATEGORIES:Virtual Monthly Parent Talks
ATTACH;FMTTYPE=image/jpeg:https://decodingdyslexiamn.org/wp-content/uploads/2023/09/AdobeStock_442747821-scaled.jpeg
END:VEVENT
BEGIN:VEVENT
DTSTART;TZID=America/Chicago:20260503T140000
DTEND;TZID=America/Chicago:20260503T150000
DTSTAMP:20260425T054721
CREATED:20260423T155552Z
LAST-MODIFIED:20260423T155552Z
UID:6131-1777816800-1777820400@decodingdyslexiamn.org
SUMMARY:DDMN Webinar: Talking With Your Child About Dyslexia
DESCRIPTION:Are you wondering how best to guide your child through their diagnosis of dyslexia or other reading disorders? Are you looking for resources to help your child understand their reading struggles? Join us for this informative presentation for the answers to these questions and more! \nFREE to attend. Registration required. \nRegistration Link: https://us02web.zoom.us/meeting/register/hBw1wVZRTJq7j0Ay3-u4mw \nDue to the discussion of minors\, Decoding Dyslexia Minnesota prohibits videotaping and the improper disclosure of personally identifiable information derived from the discussion.
URL:https://decodingdyslexiamn.org/event/ddmn-webinar-talking-with-your-child-about-dyslexia-5/
LOCATION:Zoom
CATEGORIES:Virtual Monthly Parent Talks
ATTACH;FMTTYPE=image/jpeg:https://decodingdyslexiamn.org/wp-content/uploads/2026/04/pexels-gustavo-fring-7447257-scaled.jpg
END:VEVENT
BEGIN:VEVENT
DTSTART;TZID=America/Chicago:20260507T193000
DTEND;TZID=America/Chicago:20260507T203000
DTSTAMP:20260425T054721
CREATED:20260423T155856Z
LAST-MODIFIED:20260423T155856Z
UID:6134-1778182200-1778185800@decodingdyslexiamn.org
SUMMARY:DDMN Webinar: New to Dyslexia
DESCRIPTION:Is your child struggling to read? Have you recently received a dyslexia diagnosis and feel unsure about what comes next? If you’re feeling overwhelmed or frustrated by limited support at school\, you’re not alone. Join Decoding Dyslexia Minnesota for an informative and empowering webinar designed specifically for parents navigating a new dyslexia diagnosis. We’ll explore what dyslexia is\, how it affects learning\, and where to find trusted resources to support your child’s success. Please note: This session is tailored for parents and caregivers—not intended for school administrators.\nFREE to attend; registration is required. https://us02web.zoom.us/meeting/register/nRfC7_sOQ4-8KWrbJ5LEXA \nRegistration Link: \nDue to the discussion of minors\, Decoding Dyslexia Minnesota prohibits videotaping and the improper disclosure of personally identifiable information derived from the discussion. \n 
URL:https://decodingdyslexiamn.org/event/ddmn-webinar-new-to-dyslexia-12/
LOCATION:Zoom
CATEGORIES:Virtual Monthly Parent Talks
ATTACH;FMTTYPE=image/jpeg:https://decodingdyslexiamn.org/wp-content/uploads/2023/09/AdobeStock_292867136-scaled.jpeg
END:VEVENT
BEGIN:VEVENT
DTSTART;TZID=America/Chicago:20260511T193000
DTEND;TZID=America/Chicago:20260511T203000
DTSTAMP:20260425T054721
CREATED:20260423T160125Z
LAST-MODIFIED:20260423T160125Z
UID:6137-1778527800-1778531400@decodingdyslexiamn.org
SUMMARY:DDMN Webinar: K-3 School Reading Screeners: What families need to know.
DESCRIPTION:If you have a K–3 student\, their reading skills are being assessed three times a year—but what do those results actually mean? And how can they help you support a struggling reader? Join us for a clear and informative webinar that breaks down the FastBridge and DIBELS screening tools. Learn how to interpret the data\, what it reveals about your child’s reading development\, and how to use this insight to advocate for the support they need. Perfect for parents who want to turn confusion into confidence when it comes to reading assessments.\nFREE to attend. Registration required. \nRegistration Link: https://us02web.zoom.us/meeting/register/zPRYGf22TsKOGlvPK97cWA \nDue to the discussion of minors\, Decoding Dyslexia Minnesota prohibits videotaping and the improper disclosure of personally identifiable information derived from the discussion.
URL:https://decodingdyslexiamn.org/event/ddmn-webinar-k-3-school-reading-screeners-what-families-need-to-know-10/
LOCATION:Zoom
CATEGORIES:Virtual Monthly Parent Talks
ATTACH;FMTTYPE=image/jpeg:https://decodingdyslexiamn.org/wp-content/uploads/2026/04/pexels-mikhail-nilov-8923083-scaled.jpg
END:VEVENT
BEGIN:VEVENT
DTSTART;TZID=America/Chicago:20260517T140000
DTEND;TZID=America/Chicago:20260517T150000
DTSTAMP:20260425T054721
CREATED:20260423T160505Z
LAST-MODIFIED:20260423T160505Z
UID:6143-1779026400-1779030000@decodingdyslexiamn.org
SUMMARY:DDMN Webinar: What to do if you and the school don't agree
DESCRIPTION:Are you finding it difficult to reach an agreement with your child’s school about their IEP or 504 plan? Not sure what steps to take if consensus isn’t possible? Join me for a session where we’ll explore your options and help you navigate this important process. \nFree to attend. Registration is required. \nRegistration link: https://us02web.zoom.us/meeting/register/fB7e1d2RQD6qfxUAsBr6_w \nDue to the discussion of minors\, Decoding Dyslexia Minnesota prohibits videotaping and the improper disclosure of personally identifiable information derived from the discussion.
URL:https://decodingdyslexiamn.org/event/ddmn-webinar-what-to-do-if-you-and-the-school-dont-agree-3/
LOCATION:Zoom
CATEGORIES:Virtual Monthly Parent Talks
ATTACH;FMTTYPE=image/jpeg:https://decodingdyslexiamn.org/wp-content/uploads/2023/09/AdobeStock_269364634-scaled.jpeg
END:VEVENT
BEGIN:VEVENT
DTSTART;TZID=America/Chicago:20260519T193000
DTEND;TZID=America/Chicago:20260519T203000
DTSTAMP:20260425T054721
CREATED:20260423T160755Z
LAST-MODIFIED:20260423T160755Z
UID:6149-1779219000-1779222600@decodingdyslexiamn.org
SUMMARY:DDMN Webinar: Assistive Technology for Struggling Readers
DESCRIPTION:Are you looking for tools to help your child thrive in reading? Assistive technology can make a world of difference—but knowing where to start can feel overwhelming. Join us for a practical and informative webinar where we’ll guide you through the best places to discover assistive technology designed for struggling readers. Learn how to explore available options\, try out products\, and find the right fit for your child’s unique needs. Empower your journey with tools that support reading success!\nFree to attend. Registration Required. \nRegistration Link: https://us02web.zoom.us/meeting/register/D9NFYikeSlGNxgsetzDIcA \nDue to the discussion of minors\, Decoding Dyslexia Minnesota prohibits videotaping and the improper disclosure of personally identifiable information derived from the discussion.
URL:https://decodingdyslexiamn.org/event/ddmn-webinar-assistive-technology-for-struggling-readers-11/
LOCATION:Zoom
CATEGORIES:Virtual Monthly Parent Talks
ATTACH;FMTTYPE=image/jpeg:https://decodingdyslexiamn.org/wp-content/uploads/2026/04/pexels-olly-3891209-scaled.jpg
END:VEVENT
BEGIN:VEVENT
DTSTART;TZID=America/Chicago:20260526T193000
DTEND;TZID=America/Chicago:20260526T203000
DTSTAMP:20260425T054721
CREATED:20260423T161517Z
LAST-MODIFIED:20260423T161517Z
UID:6155-1779823800-1779827400@decodingdyslexiamn.org
SUMMARY:DDMN Webinar: Preparing for an IEP or 504 Meeting
DESCRIPTION:Navigating an IEP or 504 meeting can feel overwhelming if you’re unsure what to expect or how to prepare. Join us for an insightful presentation filled with practical tips and strategies to help you confidently advocate for your struggling reader. Empower yourself with the knowledge and tools to make the meeting productive and impactful! \nFREE to attend: https://us02web.zoom.us/meeting/register/u2BIgYtuQVuXa-0v-L54cg \nDue to the discussion of minors\, Decoding Dyslexia Minnesota prohibits videotaping and the improper disclosure of personally identifiable information derived from the discussion.
URL:https://decodingdyslexiamn.org/event/ddmn-webinar-preparing-for-an-iep-or-504-meeting-10/
LOCATION:Zoom
CATEGORIES:Virtual Monthly Parent Talks
ATTACH;FMTTYPE=image/png:https://decodingdyslexiamn.org/wp-content/uploads/2026/04/Copilot_20260423_111455.png
END:VEVENT
BEGIN:VEVENT
DTSTART;TZID=America/Chicago:20260527T193000
DTEND;TZID=America/Chicago:20260527T203000
DTSTAMP:20260425T054721
CREATED:20260423T162349Z
LAST-MODIFIED:20260423T162643Z
UID:6158-1779910200-1779913800@decodingdyslexiamn.org
SUMMARY:DDMN Webinar: SMART goals and accommodations
DESCRIPTION:Are you wondering how to ensure your child’s IEP sets them up for success? Curious about SMART goals and the accommodations that best support their needs? Join us for an empowering presentation where we’ll break it all down\, answer your questions\, and equip you with the knowledge to advocate with confidence! \nFREE to attend. Registration required. \nRegistration Link: https://us02web.zoom.us/meeting/register/5QqSfwhXRbOW8KrxxCrOXw \nDue to the discussion of minors\, Decoding Dyslexia Minnesota prohibits videotaping and the improper disclosure of personally identifiable information derived from the discussion.
URL:https://decodingdyslexiamn.org/event/ddmn-webinar-smart-goals-and-accommodations-10/
LOCATION:Zoom
CATEGORIES:Virtual Monthly Parent Talks
ATTACH;FMTTYPE=image/jpeg:https://decodingdyslexiamn.org/wp-content/uploads/2023/09/AdobeStock_277117093-scaled.jpeg
END:VEVENT
END:VCALENDAR