BEGIN:VCALENDAR
VERSION:2.0
PRODID:-//Decoding Dyslexia Minnesota - ECPv6.15.20//NONSGML v1.0//EN
CALSCALE:GREGORIAN
METHOD:PUBLISH
X-ORIGINAL-URL:https://decodingdyslexiamn.org
X-WR-CALDESC:Events for Decoding Dyslexia Minnesota
REFRESH-INTERVAL;VALUE=DURATION:PT1H
X-Robots-Tag:noindex
X-PUBLISHED-TTL:PT1H
BEGIN:VTIMEZONE
TZID:America/Chicago
BEGIN:DAYLIGHT
TZOFFSETFROM:-0600
TZOFFSETTO:-0500
TZNAME:CDT
DTSTART:20240310T080000
END:DAYLIGHT
BEGIN:STANDARD
TZOFFSETFROM:-0500
TZOFFSETTO:-0600
TZNAME:CST
DTSTART:20241103T070000
END:STANDARD
BEGIN:DAYLIGHT
TZOFFSETFROM:-0600
TZOFFSETTO:-0500
TZNAME:CDT
DTSTART:20250309T080000
END:DAYLIGHT
BEGIN:STANDARD
TZOFFSETFROM:-0500
TZOFFSETTO:-0600
TZNAME:CST
DTSTART:20251102T070000
END:STANDARD
BEGIN:DAYLIGHT
TZOFFSETFROM:-0600
TZOFFSETTO:-0500
TZNAME:CDT
DTSTART:20260308T080000
END:DAYLIGHT
BEGIN:STANDARD
TZOFFSETFROM:-0500
TZOFFSETTO:-0600
TZNAME:CST
DTSTART:20261101T070000
END:STANDARD
END:VTIMEZONE
BEGIN:VEVENT
DTSTART;TZID=America/Chicago:20251020T193000
DTEND;TZID=America/Chicago:20251020T203000
DTSTAMP:20260425T052728
CREATED:20250923T235353Z
LAST-MODIFIED:20250923T235353Z
UID:5298-1760988600-1760992200@decodingdyslexiamn.org
SUMMARY:DDMN Webinar: SMART goals and accommodations
DESCRIPTION:Are you wondering how to ensure your child’s IEP sets them up for success? Curious about SMART goals and the accommodations that best support their needs? Join us for an empowering presentation where we’ll break it all down\, answer your questions\, and equip you with the knowledge to advocate with confidence! \nFREE to attend. Registration required. \nRegistration Link: https://us02web.zoom.us/meeting/register/8XIibqqLQlqhRCZpYXGKtw \nDue to the discussion of minors\, Decoding Dyslexia Minnesota prohibits videotaping and the improper disclosure of personally identifiable information derived from the discussion.
URL:https://decodingdyslexiamn.org/event/ddmn-webinar-smart-goals-and-accommodations-3/
LOCATION:Zoom
CATEGORIES:Virtual Monthly Parent Talks
ATTACH;FMTTYPE=image/jpeg:https://decodingdyslexiamn.org/wp-content/uploads/2023/09/AdobeStock_76460987-scaled.jpeg
END:VEVENT
END:VCALENDAR