BEGIN:VCALENDAR
VERSION:2.0
PRODID:-//Decoding Dyslexia Minnesota - ECPv6.15.20//NONSGML v1.0//EN
CALSCALE:GREGORIAN
METHOD:PUBLISH
X-ORIGINAL-URL:https://decodingdyslexiamn.org
X-WR-CALDESC:Events for Decoding Dyslexia Minnesota
REFRESH-INTERVAL;VALUE=DURATION:PT1H
X-Robots-Tag:noindex
X-PUBLISHED-TTL:PT1H
BEGIN:VTIMEZONE
TZID:America/Chicago
BEGIN:DAYLIGHT
TZOFFSETFROM:-0600
TZOFFSETTO:-0500
TZNAME:CDT
DTSTART:20240310T080000
END:DAYLIGHT
BEGIN:STANDARD
TZOFFSETFROM:-0500
TZOFFSETTO:-0600
TZNAME:CST
DTSTART:20241103T070000
END:STANDARD
BEGIN:DAYLIGHT
TZOFFSETFROM:-0600
TZOFFSETTO:-0500
TZNAME:CDT
DTSTART:20250309T080000
END:DAYLIGHT
BEGIN:STANDARD
TZOFFSETFROM:-0500
TZOFFSETTO:-0600
TZNAME:CST
DTSTART:20251102T070000
END:STANDARD
BEGIN:DAYLIGHT
TZOFFSETFROM:-0600
TZOFFSETTO:-0500
TZNAME:CDT
DTSTART:20260308T080000
END:DAYLIGHT
BEGIN:STANDARD
TZOFFSETFROM:-0500
TZOFFSETTO:-0600
TZNAME:CST
DTSTART:20261101T070000
END:STANDARD
END:VTIMEZONE
BEGIN:VEVENT
DTSTART;TZID=America/Chicago:20251013T193000
DTEND;TZID=America/Chicago:20251013T203000
DTSTAMP:20260425T052759
CREATED:20250923T234739Z
LAST-MODIFIED:20250923T234739Z
UID:5294-1760383800-1760387400@decodingdyslexiamn.org
SUMMARY:DDMN Webinar: Assistive Technology for Struggling Readers
DESCRIPTION:Are you looking for tools to help your child thrive in reading? Assistive technology can make a world of difference—but knowing where to start can feel overwhelming. Join us for a practical and informative webinar where we’ll guide you through the best places to discover assistive technology designed for struggling readers. Learn how to explore available options\, try out products\, and find the right fit for your child’s unique needs. Empower your journey with tools that support reading success!\nFree to attend. Registration Required. \nRegistration Link: https://us02web.zoom.us/meeting/register/oEi7Zt6ESzisqAVh0ExJGg \nDue to the discussion of minors\, Decoding Dyslexia Minnesota prohibits videotaping and the improper disclosure of personally identifiable information derived from the discussion.
URL:https://decodingdyslexiamn.org/event/ddmn-webinar-assistive-technology-for-struggling-readers-4/
LOCATION:Zoom
CATEGORIES:Virtual Monthly Parent Talks
ATTACH;FMTTYPE=image/jpeg:https://decodingdyslexiamn.org/wp-content/uploads/2025/04/AdobeStock_417630505-scaled.jpeg
END:VEVENT
END:VCALENDAR