BEGIN:VCALENDAR
VERSION:2.0
PRODID:-//Decoding Dyslexia Minnesota - ECPv6.15.20//NONSGML v1.0//EN
CALSCALE:GREGORIAN
METHOD:PUBLISH
X-ORIGINAL-URL:https://decodingdyslexiamn.org
X-WR-CALDESC:Events for Decoding Dyslexia Minnesota
REFRESH-INTERVAL;VALUE=DURATION:PT1H
X-Robots-Tag:noindex
X-PUBLISHED-TTL:PT1H
BEGIN:VTIMEZONE
TZID:America/Chicago
BEGIN:DAYLIGHT
TZOFFSETFROM:-0600
TZOFFSETTO:-0500
TZNAME:CDT
DTSTART:20240310T080000
END:DAYLIGHT
BEGIN:STANDARD
TZOFFSETFROM:-0500
TZOFFSETTO:-0600
TZNAME:CST
DTSTART:20241103T070000
END:STANDARD
BEGIN:DAYLIGHT
TZOFFSETFROM:-0600
TZOFFSETTO:-0500
TZNAME:CDT
DTSTART:20250309T080000
END:DAYLIGHT
BEGIN:STANDARD
TZOFFSETFROM:-0500
TZOFFSETTO:-0600
TZNAME:CST
DTSTART:20251102T070000
END:STANDARD
BEGIN:DAYLIGHT
TZOFFSETFROM:-0600
TZOFFSETTO:-0500
TZNAME:CDT
DTSTART:20260308T080000
END:DAYLIGHT
BEGIN:STANDARD
TZOFFSETFROM:-0500
TZOFFSETTO:-0600
TZNAME:CST
DTSTART:20261101T070000
END:STANDARD
END:VTIMEZONE
BEGIN:VEVENT
DTSTART;TZID=America/Chicago:20251008T193000
DTEND;TZID=America/Chicago:20251008T203000
DTSTAMP:20260425T052729
CREATED:20250923T234311Z
LAST-MODIFIED:20250923T234311Z
UID:5292-1759951800-1759955400@decodingdyslexiamn.org
SUMMARY:DDMN Webinar: K-3 School Reading Screeners: What families need to know.
DESCRIPTION:If you have a K–3 student\, their reading skills are being assessed three times a year—but what do those results actually mean? And how can they help you support a struggling reader? Join us for a clear and informative webinar that breaks down the FastBridge and DIBELS screening tools. Learn how to interpret the data\, what it reveals about your child’s reading development\, and how to use this insight to advocate for the support they need. Perfect for parents who want to turn confusion into confidence when it comes to reading assessments.\nFREE to attend. Registration required. \nRegistration Link: https://us02web.zoom.us/meeting/register/XpRCBCF_RZi1Ruw_K4TkWg \nDue to the discussion of minors\, Decoding Dyslexia Minnesota prohibits videotaping and the improper disclosure of personally identifiable information derived from the discussion.
URL:https://decodingdyslexiamn.org/event/ddmn-webinar-k-3-school-reading-screeners-what-families-need-to-know-3/
LOCATION:Zoom
CATEGORIES:Virtual Monthly Parent Talks
ATTACH;FMTTYPE=image/jpeg:https://decodingdyslexiamn.org/wp-content/uploads/2025/04/AdobeStock_79613467-scaled.jpeg
END:VEVENT
END:VCALENDAR