BEGIN:VCALENDAR
VERSION:2.0
PRODID:-//Decoding Dyslexia Minnesota - ECPv6.15.20//NONSGML v1.0//EN
CALSCALE:GREGORIAN
METHOD:PUBLISH
X-ORIGINAL-URL:https://decodingdyslexiamn.org
X-WR-CALDESC:Events for Decoding Dyslexia Minnesota
REFRESH-INTERVAL;VALUE=DURATION:PT1H
X-Robots-Tag:noindex
X-PUBLISHED-TTL:PT1H
BEGIN:VTIMEZONE
TZID:America/Chicago
BEGIN:DAYLIGHT
TZOFFSETFROM:-0600
TZOFFSETTO:-0500
TZNAME:CDT
DTSTART:20240310T080000
END:DAYLIGHT
BEGIN:STANDARD
TZOFFSETFROM:-0500
TZOFFSETTO:-0600
TZNAME:CST
DTSTART:20241103T070000
END:STANDARD
BEGIN:DAYLIGHT
TZOFFSETFROM:-0600
TZOFFSETTO:-0500
TZNAME:CDT
DTSTART:20250309T080000
END:DAYLIGHT
BEGIN:STANDARD
TZOFFSETFROM:-0500
TZOFFSETTO:-0600
TZNAME:CST
DTSTART:20251102T070000
END:STANDARD
BEGIN:DAYLIGHT
TZOFFSETFROM:-0600
TZOFFSETTO:-0500
TZNAME:CDT
DTSTART:20260308T080000
END:DAYLIGHT
BEGIN:STANDARD
TZOFFSETFROM:-0500
TZOFFSETTO:-0600
TZNAME:CST
DTSTART:20261101T070000
END:STANDARD
END:VTIMEZONE
BEGIN:VEVENT
DTSTART;TZID=America/Chicago:20251002T193000
DTEND;TZID=America/Chicago:20251002T203000
DTSTAMP:20260425T052824
CREATED:20250923T233915Z
LAST-MODIFIED:20250923T233915Z
UID:5290-1759433400-1759437000@decodingdyslexiamn.org
SUMMARY:DDMN Webinar: New to Dyslexia
DESCRIPTION:Is your child struggling to read? Have you recently received a dyslexia diagnosis and feel unsure about what comes next? If you’re feeling overwhelmed or frustrated by limited support at school\, you’re not alone. Join Decoding Dyslexia Minnesota for an informative and empowering webinar designed specifically for parents navigating a new dyslexia diagnosis. We’ll explore what dyslexia is\, how it affects learning\, and where to find trusted resources to support your child’s success. Please note: This session is tailored for parents and caregivers—not intended for school administrators.\nFREE to attend; registration is required. \nRegistration Link: https://us02web.zoom.us/meeting/register/fppf-gtoQ8-ECCyZYG8c0Q \nDue to the discussion of minors\, Decoding Dyslexia Minnesota prohibits videotaping and the improper disclosure of personally identifiable information derived from the discussion. \n 
URL:https://decodingdyslexiamn.org/event/ddmn-webinar-new-to-dyslexia-5/
LOCATION:Zoom
CATEGORIES:Virtual Monthly Parent Talks
ATTACH;FMTTYPE=image/jpeg:https://decodingdyslexiamn.org/wp-content/uploads/2023/09/AdobeStock_285647751-scaled.jpeg
END:VEVENT
END:VCALENDAR