BEGIN:VCALENDAR
VERSION:2.0
PRODID:-//Decoding Dyslexia Minnesota - ECPv6.15.20//NONSGML v1.0//EN
CALSCALE:GREGORIAN
METHOD:PUBLISH
X-WR-CALNAME:Decoding Dyslexia Minnesota
X-ORIGINAL-URL:https://decodingdyslexiamn.org
X-WR-CALDESC:Events for Decoding Dyslexia Minnesota
REFRESH-INTERVAL;VALUE=DURATION:PT1H
X-Robots-Tag:noindex
X-PUBLISHED-TTL:PT1H
BEGIN:VTIMEZONE
TZID:America/Chicago
BEGIN:DAYLIGHT
TZOFFSETFROM:-0600
TZOFFSETTO:-0500
TZNAME:CDT
DTSTART:20240310T080000
END:DAYLIGHT
BEGIN:STANDARD
TZOFFSETFROM:-0500
TZOFFSETTO:-0600
TZNAME:CST
DTSTART:20241103T070000
END:STANDARD
BEGIN:DAYLIGHT
TZOFFSETFROM:-0600
TZOFFSETTO:-0500
TZNAME:CDT
DTSTART:20250309T080000
END:DAYLIGHT
BEGIN:STANDARD
TZOFFSETFROM:-0500
TZOFFSETTO:-0600
TZNAME:CST
DTSTART:20251102T070000
END:STANDARD
BEGIN:DAYLIGHT
TZOFFSETFROM:-0600
TZOFFSETTO:-0500
TZNAME:CDT
DTSTART:20260308T080000
END:DAYLIGHT
BEGIN:STANDARD
TZOFFSETFROM:-0500
TZOFFSETTO:-0600
TZNAME:CST
DTSTART:20261101T070000
END:STANDARD
END:VTIMEZONE
BEGIN:VEVENT
DTSTART;TZID=America/Chicago:20250903T193000
DTEND;TZID=America/Chicago:20250903T203000
DTSTAMP:20260425T052247
CREATED:20250822T001458Z
LAST-MODIFIED:20250822T001458Z
UID:5172-1756927800-1756931400@decodingdyslexiamn.org
SUMMARY:DDMN Webinar: New to Dyslexia
DESCRIPTION:Are you worried about your struggling reader? Has your child just been diagnosed with something that impacts 5-15% of the general population? Is the school not as helpful as you were hoping? Please join us for an informative and educational discussion on the topic of dyslexia and where to find resources to help our children. This is geared towards parents of children with a new dyslexia diagnosis\, not intended for school administrators. \nFREE to attend; registration is required. \nRegistration Link: https://us02web.zoom.us/meeting/register/VYNGQtMiRWmmKgHhlrwOHw \nDue to the discussion of minors\, Decoding Dyslexia Minnesota prohibits videotaping and the improper disclosure of personally identifiable information derived from the discussion. \n 
URL:https://decodingdyslexiamn.org/event/ddmn-webinar-new-to-dyslexia-4/
LOCATION:Zoom
CATEGORIES:Virtual Monthly Parent Talks
ATTACH;FMTTYPE=image/jpeg:https://decodingdyslexiamn.org/wp-content/uploads/2023/09/AdobeStock_285647751-scaled.jpeg
END:VEVENT
BEGIN:VEVENT
DTSTART;TZID=America/Chicago:20250909T193000
DTEND;TZID=America/Chicago:20250909T203000
DTSTAMP:20260425T052247
CREATED:20250822T001725Z
LAST-MODIFIED:20250822T001725Z
UID:5176-1757446200-1757449800@decodingdyslexiamn.org
SUMMARY:DDMN Webinar: K-3 School Reading Screeners: What families need to know.
DESCRIPTION:Your K-3 student’s reading skills are being evaluated three times a year. What does it mean? What does it tell you about your struggling reader? Join us for an insightful presentation on the FastBridge and DIBELS screenings to get the clarity you need. \nFREE to attend. Registration required. \nRegistration Link: https://us02web.zoom.us/meeting/register/M1H-baMfRjqbLww6iYDupA \nDue to the discussion of minors\, Decoding Dyslexia Minnesota prohibits videotaping and the improper disclosure of personally identifiable information derived from the discussion.
URL:https://decodingdyslexiamn.org/event/ddmn-webinar-k-3-school-reading-screeners-what-families-need-to-know-2/
LOCATION:Zoom
CATEGORIES:Virtual Monthly Parent Talks
ATTACH;FMTTYPE=image/jpeg:https://decodingdyslexiamn.org/wp-content/uploads/2025/04/AdobeStock_79613467-scaled.jpeg
END:VEVENT
BEGIN:VEVENT
DTSTART;TZID=America/Chicago:20250910T193000
DTEND;TZID=America/Chicago:20250910T203000
DTSTAMP:20260425T052247
CREATED:20250822T002111Z
LAST-MODIFIED:20250822T002111Z
UID:5178-1757532600-1757536200@decodingdyslexiamn.org
SUMMARY:DDMN Webinar: Preparing for an IEP or 504 Meeting
DESCRIPTION:Are you preparing for an IEP or 504 meeting and have no idea what to expect or how to prepare? Join us for this informative presentation and get some tips and tricks so you will be ready to advocate for your struggling reader. \nFREE to attend. Registration required. \nRegistration Link:https://us02web.zoom.us/meeting/register/fUzgsX-oQJGxvk6rjGSLRQ \nDue to the discussion of minors\, Decoding Dyslexia Minnesota prohibits videotaping and the improper disclosure of personally identifiable information derived from the discussion.
URL:https://decodingdyslexiamn.org/event/ddmn-webinar-preparing-for-an-iep-or-504-meeting-2/
LOCATION:Zoom
CATEGORIES:Virtual Monthly Parent Talks
ATTACH;FMTTYPE=image/jpeg:https://decodingdyslexiamn.org/wp-content/uploads/2023/09/AdobeStock_337195787-scaled.jpeg
END:VEVENT
BEGIN:VEVENT
DTSTART;TZID=America/Chicago:20250915T193000
DTEND;TZID=America/Chicago:20250915T203000
DTSTAMP:20260425T052247
CREATED:20250822T002339Z
LAST-MODIFIED:20250822T002339Z
UID:5180-1757964600-1757968200@decodingdyslexiamn.org
SUMMARY:DDMN Webinar: SMART goals and accommodations
DESCRIPTION:Do you have questions about the goals and accommodations on your child’s IEP? What is a SMART goal? What accommodations should I ask for? Join us for this informative presentation to get the answers to these questions and more! \nFREE to attend. Registration required. \nRegistration Link:https://us02web.zoom.us/meeting/register/C1MMYTrdSEWfUxgpLuDzgA \nDue to the discussion of minors\, Decoding Dyslexia Minnesota prohibits videotaping and the improper disclosure of personally identifiable information derived from the discussion.
URL:https://decodingdyslexiamn.org/event/ddmn-webinar-smart-goals-and-accommodations-2/
LOCATION:Zoom
CATEGORIES:Virtual Monthly Parent Talks
ATTACH;FMTTYPE=image/jpeg:https://decodingdyslexiamn.org/wp-content/uploads/2023/09/AdobeStock_76460987-scaled.jpeg
END:VEVENT
BEGIN:VEVENT
DTSTART;TZID=America/Chicago:20250918T193000
DTEND;TZID=America/Chicago:20250918T203000
DTSTAMP:20260425T052247
CREATED:20250822T002612Z
LAST-MODIFIED:20250822T002612Z
UID:5184-1758223800-1758227400@decodingdyslexiamn.org
SUMMARY:DDMN Webinar: Assistive Technology for Struggling Readers
DESCRIPTION:Are you wondering how to find helpful assistive technology for your struggling reader? Join me to learn where you can go to see what is available and how you can try out these amazing products. \nFree to attend. Registration Required. \nRegistration Link:https://us02web.zoom.us/meeting/register/ZX6cOsDxQ8GA35evjUxavg \nDue to the discussion of minors\, Decoding Dyslexia Minnesota prohibits videotaping and the improper disclosure of personally identifiable information derived from the discussion.
URL:https://decodingdyslexiamn.org/event/ddmn-webinar-assistive-technology-for-struggling-readers-3/
LOCATION:Zoom
CATEGORIES:Virtual Monthly Parent Talks
ATTACH;FMTTYPE=image/jpeg:https://decodingdyslexiamn.org/wp-content/uploads/2025/04/AdobeStock_417630505-scaled.jpeg
END:VEVENT
END:VCALENDAR