BEGIN:VCALENDAR
VERSION:2.0
PRODID:-//Decoding Dyslexia Minnesota - ECPv6.15.20//NONSGML v1.0//EN
CALSCALE:GREGORIAN
METHOD:PUBLISH
X-WR-CALNAME:Decoding Dyslexia Minnesota
X-ORIGINAL-URL:https://decodingdyslexiamn.org
X-WR-CALDESC:Events for Decoding Dyslexia Minnesota
REFRESH-INTERVAL;VALUE=DURATION:PT1H
X-Robots-Tag:noindex
X-PUBLISHED-TTL:PT1H
BEGIN:VTIMEZONE
TZID:America/Chicago
BEGIN:DAYLIGHT
TZOFFSETFROM:-0600
TZOFFSETTO:-0500
TZNAME:CDT
DTSTART:20240310T080000
END:DAYLIGHT
BEGIN:STANDARD
TZOFFSETFROM:-0500
TZOFFSETTO:-0600
TZNAME:CST
DTSTART:20241103T070000
END:STANDARD
BEGIN:DAYLIGHT
TZOFFSETFROM:-0600
TZOFFSETTO:-0500
TZNAME:CDT
DTSTART:20250309T080000
END:DAYLIGHT
BEGIN:STANDARD
TZOFFSETFROM:-0500
TZOFFSETTO:-0600
TZNAME:CST
DTSTART:20251102T070000
END:STANDARD
BEGIN:DAYLIGHT
TZOFFSETFROM:-0600
TZOFFSETTO:-0500
TZNAME:CDT
DTSTART:20260308T080000
END:DAYLIGHT
BEGIN:STANDARD
TZOFFSETFROM:-0500
TZOFFSETTO:-0600
TZNAME:CST
DTSTART:20261101T070000
END:STANDARD
END:VTIMEZONE
BEGIN:VEVENT
DTSTART;TZID=America/Chicago:20250708T193000
DTEND;TZID=America/Chicago:20250708T203000
DTSTAMP:20260425T081931
CREATED:20250522T150254Z
LAST-MODIFIED:20250522T150254Z
UID:4931-1752003000-1752006600@decodingdyslexiamn.org
SUMMARY:DDMN Webinar: New to Dyslexia
DESCRIPTION:Are you worried about your struggling reader? Has your child just been diagnosed with something that impacts 5-15% of the general population? Is the school not as helpful as you were hoping? Please join us for an informative and educational discussion on the topic of dyslexia and where to find resources to help our children. This is geared towards parents of children with a new dyslexia diagnosis\, not intended for school administrators. \nFREE to attend; registration is required. \nRegistration Link: https://us02web.zoom.us/meeting/register/a8vUNXFsSn6-hhkhxJBs2w \nDue to the discussion of minors\, Decoding Dyslexia Minnesota prohibits videotaping and the improper disclosure of personally identifiable information derived from the discussion. \n 
URL:https://decodingdyslexiamn.org/event/ddmn-webinar-new-to-dyslexia-2/
LOCATION:Zoom
CATEGORIES:Virtual Monthly Parent Talks
ATTACH;FMTTYPE=image/jpeg:https://decodingdyslexiamn.org/wp-content/uploads/2023/09/AdobeStock_292867136-scaled.jpeg
END:VEVENT
BEGIN:VEVENT
DTSTART;TZID=America/Chicago:20250716T193000
DTEND;TZID=America/Chicago:20250716T203000
DTSTAMP:20260425T081931
CREATED:20250522T150424Z
LAST-MODIFIED:20250522T150424Z
UID:4933-1752694200-1752697800@decodingdyslexiamn.org
SUMMARY:DDMN Webinar: Assistive Technology for Struggling Readers
DESCRIPTION:Are you wondering how to find helpful assistive technology for your struggling reader? Join me to learn where you can go to see what is available and how you can try out these amazing products. \nFree to attend. Registration Required. Registration Link: https://us02web.zoom.us/meeting/register/M6dWqkgMQbmbrUS_gSH5kg \nDue to the discussion of minors\, Decoding Dyslexia Minnesota prohibits videotaping and the improper disclosure of personally identifiable information derived from the discussion.
URL:https://decodingdyslexiamn.org/event/ddmn-webinar-assistive-technology-for-struggling-readers/
LOCATION:Zoom
CATEGORIES:Virtual Monthly Parent Talks
ATTACH;FMTTYPE=image/jpeg:https://decodingdyslexiamn.org/wp-content/uploads/2025/04/AdobeStock_376595031-scaled.jpeg
END:VEVENT
BEGIN:VEVENT
DTSTART;TZID=America/Chicago:20250724T193000
DTEND;TZID=America/Chicago:20250724T203000
DTSTAMP:20260425T081931
CREATED:20250522T150601Z
LAST-MODIFIED:20250522T150601Z
UID:4935-1753385400-1753389000@decodingdyslexiamn.org
SUMMARY:DDMN Webinar: Talking With Your Child About Dyslexia
DESCRIPTION:Are you wondering how best to guide your child through their diagnosis of dyslexia or other reading disorders? Are you looking for resources to help your child understand their reading struggles? Join us for this informative presentation for the answers to these questions and more! \nFREE to attend. Registration required. \nRegistration Link: https://us02web.zoom.us/meeting/register/1L6bX6P-Q-qmkjvXi17Stw \nDue to the discussion of minors\, Decoding Dyslexia Minnesota prohibits videotaping and the improper disclosure of personally identifiable information derived from the discussion.
URL:https://decodingdyslexiamn.org/event/ddmn-webinar-talking-with-your-child-about-dyslexia-2/
LOCATION:Zoom
CATEGORIES:Virtual Monthly Parent Talks
ATTACH;FMTTYPE=image/jpeg:https://decodingdyslexiamn.org/wp-content/uploads/2025/02/AdobeStock_265474434-scaled.jpeg
END:VEVENT
END:VCALENDAR