BEGIN:VCALENDAR
VERSION:2.0
PRODID:-//Decoding Dyslexia Minnesota - ECPv6.15.20//NONSGML v1.0//EN
CALSCALE:GREGORIAN
METHOD:PUBLISH
X-ORIGINAL-URL:https://decodingdyslexiamn.org
X-WR-CALDESC:Events for Decoding Dyslexia Minnesota
REFRESH-INTERVAL;VALUE=DURATION:PT1H
X-Robots-Tag:noindex
X-PUBLISHED-TTL:PT1H
BEGIN:VTIMEZONE
TZID:America/Chicago
BEGIN:DAYLIGHT
TZOFFSETFROM:-0600
TZOFFSETTO:-0500
TZNAME:CDT
DTSTART:20240310T080000
END:DAYLIGHT
BEGIN:STANDARD
TZOFFSETFROM:-0500
TZOFFSETTO:-0600
TZNAME:CST
DTSTART:20241103T070000
END:STANDARD
BEGIN:DAYLIGHT
TZOFFSETFROM:-0600
TZOFFSETTO:-0500
TZNAME:CDT
DTSTART:20250309T080000
END:DAYLIGHT
BEGIN:STANDARD
TZOFFSETFROM:-0500
TZOFFSETTO:-0600
TZNAME:CST
DTSTART:20251102T070000
END:STANDARD
BEGIN:DAYLIGHT
TZOFFSETFROM:-0600
TZOFFSETTO:-0500
TZNAME:CDT
DTSTART:20260308T080000
END:DAYLIGHT
BEGIN:STANDARD
TZOFFSETFROM:-0500
TZOFFSETTO:-0600
TZNAME:CST
DTSTART:20261101T070000
END:STANDARD
END:VTIMEZONE
BEGIN:VEVENT
DTSTART;TZID=America/Chicago:20250604T193000
DTEND;TZID=America/Chicago:20250604T203000
DTSTAMP:20260425T095655
CREATED:20250522T135853Z
LAST-MODIFIED:20250522T135853Z
UID:4923-1749065400-1749069000@decodingdyslexiamn.org
SUMMARY:DDMN Webinar: New to Dyslexia
DESCRIPTION:Are you worried about your struggling reader? Has your child just been diagnosed with something that impacts 5-15% of the general population? Is the school not as helpful as you were hoping? Please join us for an informative and educational discussion on the topic of dyslexia and where to find resources to help our children. This is geared towards parents of children with a new dyslexia diagnosis\, not intended for school administrators. \nFREE to attend; registration is required. \nRegistration Link: https://us02web.zoom.us/meeting/register/FF5CjPZBRjCxsGTqehAoDQ \nDue to the discussion of minors\, Decoding Dyslexia Minnesota prohibits videotaping and the improper disclosure of personally identifiable information derived from the discussion. \n 
URL:https://decodingdyslexiamn.org/event/ddmn-webinar-new-to-dyslexia/
LOCATION:Zoom
CATEGORIES:Virtual Monthly Parent Talks
ATTACH;FMTTYPE=image/jpeg:https://decodingdyslexiamn.org/wp-content/uploads/2023/09/AdobeStock_277117093-scaled.jpeg
END:VEVENT
BEGIN:VEVENT
DTSTART;TZID=America/Chicago:20250612T193000
DTEND;TZID=America/Chicago:20250612T203000
DTSTAMP:20260425T095655
CREATED:20250522T140116Z
LAST-MODIFIED:20250522T140116Z
UID:4925-1749756600-1749760200@decodingdyslexiamn.org
SUMMARY:DDMN Webinar: Talking With Your Child About Dyslexia
DESCRIPTION:Are you wondering how best to guide your child through their diagnosis of dyslexia or other reading disorders? Are you looking for resources to help your child understand their reading struggles? Join us for this informative presentation for the answers to these questions and more! \nFREE to attend. Registration required. \nRegistration Link: https://us02web.zoom.us/meeting/register/z4GuMbHYS6GpbU_BoWKk0w \nDue to the discussion of minors\, Decoding Dyslexia Minnesota prohibits videotaping and the improper disclosure of personally identifiable information derived from the discussion.
URL:https://decodingdyslexiamn.org/event/ddmn-webinar-talking-with-your-child-about-dyslexia/
LOCATION:Zoom
CATEGORIES:Virtual Monthly Parent Talks
ATTACH;FMTTYPE=image/jpeg:https://decodingdyslexiamn.org/wp-content/uploads/2025/04/AdobeStock_294659205-scaled.jpeg
END:VEVENT
BEGIN:VEVENT
DTSTART;TZID=America/Chicago:20250617T193000
DTEND;TZID=America/Chicago:20250617T203000
DTSTAMP:20260425T095655
CREATED:20250522T145838Z
LAST-MODIFIED:20250522T145838Z
UID:4927-1750188600-1750192200@decodingdyslexiamn.org
SUMMARY:DDMN Webinar: What to do if you and the school don't agree
DESCRIPTION:Are you struggling to come to an agreement with your child’s school about their IEP or 504 plan? Are you unsure what your options are if you can’t come to an agreement? Join me to learn about this topic. \nFree to attend. Registration is required. \nRegistration link: https://us02web.zoom.us/meeting/register/rYS5MWIIQZiFNlipeKo8hg \nDue to the discussion of minors\, Decoding Dyslexia Minnesota prohibits videotaping and the improper disclosure of personally identifiable information derived from the discussion.
URL:https://decodingdyslexiamn.org/event/ddmn-webinar-what-to-do-if-you-and-the-school-dont-agree/
LOCATION:Zoom
CATEGORIES:Virtual Monthly Parent Talks
ATTACH;FMTTYPE=image/jpeg:https://decodingdyslexiamn.org/wp-content/uploads/2023/09/AdobeStock_269364634-scaled.jpeg
END:VEVENT
END:VCALENDAR