BEGIN:VCALENDAR
VERSION:2.0
PRODID:-//Decoding Dyslexia Minnesota - ECPv6.15.20//NONSGML v1.0//EN
CALSCALE:GREGORIAN
METHOD:PUBLISH
X-WR-CALNAME:Decoding Dyslexia Minnesota
X-ORIGINAL-URL:https://decodingdyslexiamn.org
X-WR-CALDESC:Events for Decoding Dyslexia Minnesota
REFRESH-INTERVAL;VALUE=DURATION:PT1H
X-Robots-Tag:noindex
X-PUBLISHED-TTL:PT1H
BEGIN:VTIMEZONE
TZID:America/Chicago
BEGIN:DAYLIGHT
TZOFFSETFROM:-0600
TZOFFSETTO:-0500
TZNAME:CDT
DTSTART:20240310T080000
END:DAYLIGHT
BEGIN:STANDARD
TZOFFSETFROM:-0500
TZOFFSETTO:-0600
TZNAME:CST
DTSTART:20241103T070000
END:STANDARD
BEGIN:DAYLIGHT
TZOFFSETFROM:-0600
TZOFFSETTO:-0500
TZNAME:CDT
DTSTART:20250309T080000
END:DAYLIGHT
BEGIN:STANDARD
TZOFFSETFROM:-0500
TZOFFSETTO:-0600
TZNAME:CST
DTSTART:20251102T070000
END:STANDARD
BEGIN:DAYLIGHT
TZOFFSETFROM:-0600
TZOFFSETTO:-0500
TZNAME:CDT
DTSTART:20260308T080000
END:DAYLIGHT
BEGIN:STANDARD
TZOFFSETFROM:-0500
TZOFFSETTO:-0600
TZNAME:CST
DTSTART:20261101T070000
END:STANDARD
END:VTIMEZONE
BEGIN:VEVENT
DTSTART;TZID=America/Chicago:20250507T193000
DTEND;TZID=America/Chicago:20250507T203000
DTSTAMP:20260425T113056
CREATED:20250422T144135Z
LAST-MODIFIED:20250422T144759Z
UID:4796-1746646200-1746649800@decodingdyslexiamn.org
SUMMARY:DDMN Virtual Talk: Could Your Struggling Reader Have Dyslexia? (New to Dyslexia)
DESCRIPTION:Are you worried about your struggling reader? Or has your child just been diagnosed with something that impacts 5-15% of the general population? Is the school not as helpful as you were hoping? Please join us for an informative and educational presentation on the general topic of dyslexia and where to find resources to help our children. This is geared toward parents of struggling readers with or without a diagnosis and is not intended for school administrators. \nFREE to attend; registration is required. \nRegistration Link: https://us02web.zoom.us/meeting/register/QGFJCgZYSYei3hPbE1k1NA \nDue to the discussion of minors\, Decoding Dyslexia Minnesota prohibits videotaping and the improper disclosure of personally identifiable information derived from the discussion.
URL:https://decodingdyslexiamn.org/event/ddmn-virtual-talk-could-your-struggling-reader-have-dyslexia-new-to-dyslexia-3/
LOCATION:Zoom
CATEGORIES:Virtual Monthly Parent Talks
ATTACH;FMTTYPE=image/jpeg:https://decodingdyslexiamn.org/wp-content/uploads/2023/09/photo.jpg
END:VEVENT
BEGIN:VEVENT
DTSTART;TZID=America/Chicago:20250512T193000
DTEND;TZID=America/Chicago:20250512T203000
DTSTAMP:20260425T113056
CREATED:20250422T144416Z
LAST-MODIFIED:20250422T144838Z
UID:4798-1747078200-1747081800@decodingdyslexiamn.org
SUMMARY:DDMN Virtual Talk: Preparing for an IEP or 504 Meeting
DESCRIPTION:Are you preparing for an IEP or 504 meeting and have no idea what to expect or how to prepare? Join us for this informative presentation and get some tips and tricks so you will be ready to advocate for your struggling reader. \nFREE to attend. Registration required. \nRegistration Link: https://us02web.zoom.us/meeting/register/sBRlxSzxQN6e0e8jnoYrOg \nDue to the discussion of minors\, Decoding Dyslexia Minnesota prohibits videotaping and the improper disclosure of personally identifiable information derived from the discussion.
URL:https://decodingdyslexiamn.org/event/ddmn-virtual-talk-preparing-for-an-iep-or-504-meeting-3/
LOCATION:Zoom
CATEGORIES:Virtual Monthly Parent Talks
ATTACH;FMTTYPE=image/jpeg:https://decodingdyslexiamn.org/wp-content/uploads/2023/09/AdobeStock_119867564-scaled.jpeg
END:VEVENT
BEGIN:VEVENT
DTSTART;TZID=America/Chicago:20250514T193000
DTEND;TZID=America/Chicago:20250514T203000
DTSTAMP:20260425T113056
CREATED:20250422T144629Z
LAST-MODIFIED:20250422T144912Z
UID:4800-1747251000-1747254600@decodingdyslexiamn.org
SUMMARY:DDMN Virtual Talk: SMART goals and accommodations
DESCRIPTION:Do you have questions about the goals and accommodations on your child’s IEP? What is a SMART goal? What accommodations should I ask for? Join us for this informative presentation to get the answers to these questions and more! \nFREE to attend. Registration required. \nRegistration Link: https://us02web.zoom.us/meeting/register/ifGvJ_1uSsCz86aHIGqtQw \nDue to the discussion of minors\, Decoding Dyslexia Minnesota prohibits videotaping and the improper disclosure of personally identifiable information derived from the discussion.
URL:https://decodingdyslexiamn.org/event/ddmn-virtual-talk-smart-goals-and-accommodations-3/
LOCATION:Zoom
CATEGORIES:Virtual Monthly Parent Talks
ATTACH;FMTTYPE=image/jpeg:https://decodingdyslexiamn.org/wp-content/uploads/2023/09/AdobeStock_277117093-scaled.jpeg
END:VEVENT
BEGIN:VEVENT
DTSTART;TZID=America/Chicago:20250515T193000
DTEND;TZID=America/Chicago:20250515T203000
DTSTAMP:20260425T113056
CREATED:20250422T145038Z
LAST-MODIFIED:20250422T145038Z
UID:4802-1747337400-1747341000@decodingdyslexiamn.org
SUMMARY:DDMN Virtual Talk: K-3 School Reading Screeners: What families need to know.
DESCRIPTION:Your K-3 student’s reading skills are being evaluated three times a year. What does it mean? What does it tell you about your struggling reader? Join us for an insightful presentation on the FastBridge and DIBELS screenings to get the clarity you need. \nFREE to attend. Registration required. \nRegistration Link: https://us02web.zoom.us/meeting/register/_JVPQ6aGQAG5IgwnZRryJg \nDue to the discussion of minors\, Decoding Dyslexia Minnesota prohibits videotaping and the improper disclosure of personally identifiable information derived from the discussion.
URL:https://decodingdyslexiamn.org/event/ddmn-virtual-talk-k-3-school-reading-screeners-what-families-need-to-know/
LOCATION:Zoom
CATEGORIES:Virtual Monthly Parent Talks
ATTACH;FMTTYPE=image/jpeg:https://decodingdyslexiamn.org/wp-content/uploads/2025/04/AdobeStock_487768764-scaled.jpeg
END:VEVENT
BEGIN:VEVENT
DTSTART;TZID=America/Chicago:20250521T193000
DTEND;TZID=America/Chicago:20250521T203000
DTSTAMP:20260425T113056
CREATED:20250422T145305Z
LAST-MODIFIED:20250422T145305Z
UID:4809-1747855800-1747859400@decodingdyslexiamn.org
SUMMARY:DDMN Virtual Talk: Assistive Technology for Struggling Readers
DESCRIPTION:Are you wondering how to find helpful assistive technology for your struggling reader? Join me to learn where you can go to see what is available and how you can try out these amazing products. \nFree to attend. Registration Required. Registration Link: https://us02web.zoom.us/meeting/register/vYQ68OulRk-aLOCvO0CUOA \nDue to the discussion of minors\, Decoding Dyslexia Minnesota prohibits videotaping and the improper disclosure of personally identifiable information derived from the discussion.
URL:https://decodingdyslexiamn.org/event/ddmn-virtual-talk-assistive-technology-for-struggling-readers-2/
LOCATION:Zoom
CATEGORIES:Virtual Monthly Parent Talks
ATTACH;FMTTYPE=image/jpeg:https://decodingdyslexiamn.org/wp-content/uploads/2025/04/AdobeStock_459807513-scaled.jpeg
END:VEVENT
BEGIN:VEVENT
DTSTART;TZID=America/Chicago:20250527T193000
DTEND;TZID=America/Chicago:20250527T203000
DTSTAMP:20260425T113056
CREATED:20250422T145432Z
LAST-MODIFIED:20250422T145432Z
UID:4811-1748374200-1748377800@decodingdyslexiamn.org
SUMMARY:DDMN Virtual Talk: Talking With Your Child About Dyslexia
DESCRIPTION:Are you wondering how best to guide your child through their diagnosis of dyslexia or other reading disorders? Are you looking for resources to help your child understand their reading struggles? Join us for this informative presentation for the answers to these questions and more! \nFREE to attend. Registration required. \nRegistration Link:https://us02web.zoom.us/meeting/register/0rKBBoz5TdyI4afym0VEYA \nDue to the discussion of minors\, Decoding Dyslexia Minnesota prohibits videotaping and the improper disclosure of personally identifiable information derived from the discussion.
URL:https://decodingdyslexiamn.org/event/ddmn-virtual-talk-talking-with-your-child-about-dyslexia-3/
LOCATION:Zoom
CATEGORIES:Virtual Monthly Parent Talks
ATTACH;FMTTYPE=image/jpeg:https://decodingdyslexiamn.org/wp-content/uploads/2025/02/AdobeStock_109781550-scaled.jpeg
END:VEVENT
END:VCALENDAR