BEGIN:VCALENDAR
VERSION:2.0
PRODID:-//Decoding Dyslexia Minnesota - ECPv6.15.20//NONSGML v1.0//EN
CALSCALE:GREGORIAN
METHOD:PUBLISH
X-ORIGINAL-URL:https://decodingdyslexiamn.org
X-WR-CALDESC:Events for Decoding Dyslexia Minnesota
REFRESH-INTERVAL;VALUE=DURATION:PT1H
X-Robots-Tag:noindex
X-PUBLISHED-TTL:PT1H
BEGIN:VTIMEZONE
TZID:America/Chicago
BEGIN:DAYLIGHT
TZOFFSETFROM:-0600
TZOFFSETTO:-0500
TZNAME:CDT
DTSTART:20240310T080000
END:DAYLIGHT
BEGIN:STANDARD
TZOFFSETFROM:-0500
TZOFFSETTO:-0600
TZNAME:CST
DTSTART:20241103T070000
END:STANDARD
BEGIN:DAYLIGHT
TZOFFSETFROM:-0600
TZOFFSETTO:-0500
TZNAME:CDT
DTSTART:20250309T080000
END:DAYLIGHT
BEGIN:STANDARD
TZOFFSETFROM:-0500
TZOFFSETTO:-0600
TZNAME:CST
DTSTART:20251102T070000
END:STANDARD
BEGIN:DAYLIGHT
TZOFFSETFROM:-0600
TZOFFSETTO:-0500
TZNAME:CDT
DTSTART:20260308T080000
END:DAYLIGHT
BEGIN:STANDARD
TZOFFSETFROM:-0500
TZOFFSETTO:-0600
TZNAME:CST
DTSTART:20261101T070000
END:STANDARD
END:VTIMEZONE
BEGIN:VEVENT
DTSTART;TZID=America/Chicago:20250204T193000
DTEND;TZID=America/Chicago:20250204T203000
DTSTAMP:20260425T161803
CREATED:20250115T152111Z
LAST-MODIFIED:20250115T152111Z
UID:4357-1738697400-1738701000@decodingdyslexiamn.org
SUMMARY:DDMN Parent Talk: Could Your Struggling Reader Have Dyslexia? (New to Dyslexia)
DESCRIPTION:Are you worried about your struggling reader? Or has your child just been diagnosed with something that impacts 5-15% of the general population? Is the school not as helpful as you were hoping? Please join us for an informative and educational discussion on the general topic of dyslexia and where to find resources to help our children. This is geared toward parents of struggling readers with or without a diagnosis and is not intended for school administrators. \nFREE to attend; registration is required. \nRegistration Link: https://us02web.zoom.us/meeting/register/OnNJdaj4TQWQS1zad9CJPQ \nDue to the discussion of minors\, Decoding Dyslexia Minnesota prohibits videotaping and the improper disclosure of personally identifiable information derived from the discussion.
URL:https://decodingdyslexiamn.org/event/ddmn-parent-talk-could-your-struggling-reader-have-dyslexia-new-to-dyslexia-5/
LOCATION:Zoom
CATEGORIES:Virtual Monthly Parent Talks
ATTACH;FMTTYPE=image/jpeg:https://decodingdyslexiamn.org/wp-content/uploads/2023/09/photo.jpg
END:VEVENT
BEGIN:VEVENT
DTSTART;TZID=America/Chicago:20250210T193000
DTEND;TZID=America/Chicago:20250210T203000
DTSTAMP:20260425T161803
CREATED:20250115T152239Z
LAST-MODIFIED:20250206T221408Z
UID:4359-1739215800-1739219400@decodingdyslexiamn.org
SUMMARY:DDMN Virtual Talk: Talking With Your Child About Dyslexia
DESCRIPTION:Are you wondering how best to guide your child through their diagnosis of dyslexia or other reading disorders? Are you looking for resources to help your child understand their reading struggles? Join us to discuss these questions and more! \nFREE to attend. Registration required. \nRegistration Link: https://us02web.zoom.us/meeting/register/Gyy-QsGBTUiImPBFbzjUmg \nDue to the discussion of minors\, Decoding Dyslexia Minnesota prohibits videotaping and the improper disclosure of personally identifiable information derived from the discussion.
URL:https://decodingdyslexiamn.org/event/ddmn-parent-talk-talking-with-your-child-about-dyslexia-5/
LOCATION:Zoom
CATEGORIES:Virtual Monthly Parent Talks
ATTACH;FMTTYPE=image/jpeg:https://decodingdyslexiamn.org/wp-content/uploads/2023/09/AdobeStock_550270464-scaled.jpeg
END:VEVENT
BEGIN:VEVENT
DTSTART;TZID=America/Chicago:20250212T193000
DTEND;TZID=America/Chicago:20250212T203000
DTSTAMP:20260425T161803
CREATED:20250115T152348Z
LAST-MODIFIED:20250206T221418Z
UID:4361-1739388600-1739392200@decodingdyslexiamn.org
SUMMARY:DDMN Virtual Talk: Preparing for an IEP or 504 Meeting
DESCRIPTION:Are you preparing for an IEP meeting and have no idea what to expect or how to prepare? Join me and get some tips and tricks so you will be ready to advocate for your struggling reader. \nFREE to attend. Registration required. \nRegistration Link: https://us02web.zoom.us/meeting/register/yvJxFFasTEiHTovaXa4vgA \nDue to the discussion of minors\, Decoding Dyslexia Minnesota prohibits videotaping and the improper disclosure of personally identifiable information derived from the discussion.
URL:https://decodingdyslexiamn.org/event/ddmn-parent-talk-preparing-for-an-iep-or-504-meeting-11/
LOCATION:Zoom
CATEGORIES:Virtual Monthly Parent Talks
ATTACH;FMTTYPE=image/jpeg:https://decodingdyslexiamn.org/wp-content/uploads/2023/09/AdobeStock_119867564-scaled.jpeg
END:VEVENT
BEGIN:VEVENT
DTSTART;TZID=America/Chicago:20250218T193000
DTEND;TZID=America/Chicago:20250218T203000
DTSTAMP:20260425T161803
CREATED:20250115T152450Z
LAST-MODIFIED:20250206T221430Z
UID:4363-1739907000-1739910600@decodingdyslexiamn.org
SUMMARY:DDMN Virtual Talk: SMART goals and accommodations
DESCRIPTION:Do you have questions about the goals and accommodations on your child’s IEP? What is a SMART goal? What accommodations should I ask for? Join us to discuss these questions and more! \nFREE to attend. Registration required. \nRegistration Link: https://us02web.zoom.us/meeting/register/tRKsE_hfQtS4pxpbDc7eHQ \nDue to the discussion of minors\, Decoding Dyslexia Minnesota prohibits videotaping and the improper disclosure of personally identifiable information derived from the discussion.
URL:https://decodingdyslexiamn.org/event/ddmn-parent-talk-smart-goals-and-accommodations-13/
LOCATION:Zoom
CATEGORIES:Virtual Monthly Parent Talks
ATTACH;FMTTYPE=image/jpeg:https://decodingdyslexiamn.org/wp-content/uploads/2023/09/AdobeStock_416566908-scaled.jpeg
END:VEVENT
BEGIN:VEVENT
DTSTART;TZID=America/Chicago:20250224T193000
DTEND;TZID=America/Chicago:20250224T203000
DTSTAMP:20260425T161803
CREATED:20250115T152648Z
LAST-MODIFIED:20250206T221451Z
UID:4367-1740425400-1740429000@decodingdyslexiamn.org
SUMMARY:DDMN Virtual Talk: 504 Plans
DESCRIPTION:Is your child unable to get an IEP? Are you wondering about a 504 plan? What are the differences\, what is the process\, and what are your legal rights? Join us to discuss this topic and more! \nFree to attend. Registration is required. \nRegistration link: https://us02web.zoom.us/meeting/register/k4MaXUcRQX-r2VbzdBqtgQ \nDue to the discussion of minors\, Decoding Dyslexia Minnesota prohibits videotaping and the improper disclosure of personally identifiable information derived from the discussion.
URL:https://decodingdyslexiamn.org/event/ddmn-parent-talk-504-plans-10/
LOCATION:Zoom
CATEGORIES:Virtual Monthly Parent Talks
ATTACH;FMTTYPE=image/jpeg:https://decodingdyslexiamn.org/wp-content/uploads/2023/09/AdobeStock_453697978-scaled.jpeg
END:VEVENT
BEGIN:VEVENT
DTSTART;TZID=America/Chicago:20250225T193000
DTEND;TZID=America/Chicago:20250225T203000
DTSTAMP:20260425T161803
CREATED:20250115T152756Z
LAST-MODIFIED:20250206T221502Z
UID:4369-1740511800-1740515400@decodingdyslexiamn.org
SUMMARY:DDMN Virtual Talk: Assistive Technology for Struggling Readers
DESCRIPTION:Are you wondering how to find helpful assistive technology for your struggling reader? Join me to learn where you can go to see what is available and how you can try out these amazing products. \nFree to attend. Registration Required. Registration Link: https://us02web.zoom.us/meeting/register/LJTS5AFDT9a2B9XS17mueA \nDue to the discussion of minors\, Decoding Dyslexia Minnesota prohibits videotaping and the improper disclosure of personally identifiable information derived from the discussion.
URL:https://decodingdyslexiamn.org/event/ddmn-parent-talk-assistive-technology-for-struggling-readers-6/
LOCATION:Zoom
CATEGORIES:Virtual Monthly Parent Talks
ATTACH;FMTTYPE=image/jpeg:https://decodingdyslexiamn.org/wp-content/uploads/2023/09/AdobeStock_471838919-scaled.jpeg
END:VEVENT
END:VCALENDAR