BEGIN:VCALENDAR
VERSION:2.0
PRODID:-//Decoding Dyslexia Minnesota - ECPv6.15.20//NONSGML v1.0//EN
CALSCALE:GREGORIAN
METHOD:PUBLISH
X-ORIGINAL-URL:https://decodingdyslexiamn.org
X-WR-CALDESC:Events for Decoding Dyslexia Minnesota
REFRESH-INTERVAL;VALUE=DURATION:PT1H
X-Robots-Tag:noindex
X-PUBLISHED-TTL:PT1H
BEGIN:VTIMEZONE
TZID:America/Chicago
BEGIN:DAYLIGHT
TZOFFSETFROM:-0600
TZOFFSETTO:-0500
TZNAME:CDT
DTSTART:20240310T080000
END:DAYLIGHT
BEGIN:STANDARD
TZOFFSETFROM:-0500
TZOFFSETTO:-0600
TZNAME:CST
DTSTART:20241103T070000
END:STANDARD
BEGIN:DAYLIGHT
TZOFFSETFROM:-0600
TZOFFSETTO:-0500
TZNAME:CDT
DTSTART:20250309T080000
END:DAYLIGHT
BEGIN:STANDARD
TZOFFSETFROM:-0500
TZOFFSETTO:-0600
TZNAME:CST
DTSTART:20251102T070000
END:STANDARD
BEGIN:DAYLIGHT
TZOFFSETFROM:-0600
TZOFFSETTO:-0500
TZNAME:CDT
DTSTART:20260308T080000
END:DAYLIGHT
BEGIN:STANDARD
TZOFFSETFROM:-0500
TZOFFSETTO:-0600
TZNAME:CST
DTSTART:20261101T070000
END:STANDARD
END:VTIMEZONE
BEGIN:VEVENT
DTSTART;TZID=America/Chicago:20250108T193000
DTEND;TZID=America/Chicago:20250108T203000
DTSTAMP:20260425T175005
CREATED:20241215T200950Z
LAST-MODIFIED:20241215T200950Z
UID:4307-1736364600-1736368200@decodingdyslexiamn.org
SUMMARY:DDMN Parent Talk: Could Your Struggling Reader Have Dyslexia? (New to Dyslexia)
DESCRIPTION:Are you worried about your struggling reader? Or has your child just been diagnosed with something that impacts 5-15% of the general population? Is the school not as helpful as you were hoping? Please join us for an informative and educational discussion on the general topic of dyslexia and where to find resources to help our children. This is geared toward parents of struggling readers with or without a diagnosis and is not intended for school administrators. \nFREE to attend; registration is required. https://us02web.zoom.us/meeting/register/tZcldO2opj4rHNyP2tFPRrFNDhmUOWSZFo4_ \nRegistration Link: \nDue to the discussion of minors\, Decoding Dyslexia Minnesota prohibits videotaping and the improper disclosure of personally identifiable information derived from the discussion.
URL:https://decodingdyslexiamn.org/event/ddmn-parent-talk-could-your-struggling-reader-have-dyslexia-new-to-dyslexia-4/
LOCATION:Zoom
CATEGORIES:Virtual Monthly Parent Talks
ATTACH;FMTTYPE=image/jpeg:https://decodingdyslexiamn.org/wp-content/uploads/2023/09/photo.jpg
END:VEVENT
BEGIN:VEVENT
DTSTART;TZID=America/Chicago:20250113T193000
DTEND;TZID=America/Chicago:20250113T203000
DTSTAMP:20260425T175005
CREATED:20241215T201120Z
LAST-MODIFIED:20241215T201120Z
UID:4309-1736796600-1736800200@decodingdyslexiamn.org
SUMMARY:DDMN Parent Talk: Preparing for an IEP or 504 Meeting
DESCRIPTION:Are you preparing for an IEP meeting and have no idea what to expect or how to prepare? Join me and get some tips and tricks so you will be ready to advocate for your struggling reader. \nFREE to attend. Registration required. \nRegistration Link: https://us02web.zoom.us/meeting/register/tZYkdeCrqj0sGtx1zg1CD3jDP3Cr79Qi2Pic \nDue to the discussion of minors\, Decoding Dyslexia Minnesota prohibits videotaping and the improper disclosure of personally identifiable information derived from the discussion.
URL:https://decodingdyslexiamn.org/event/ddmn-parent-talk-preparing-for-an-iep-or-504-meeting-10/
LOCATION:Zoom
CATEGORIES:Virtual Monthly Parent Talks
ATTACH;FMTTYPE=image/jpeg:https://decodingdyslexiamn.org/wp-content/uploads/2023/09/AdobeStock_119867564-scaled.jpeg
END:VEVENT
BEGIN:VEVENT
DTSTART;TZID=America/Chicago:20250114T193000
DTEND;TZID=America/Chicago:20250114T203000
DTSTAMP:20260425T175005
CREATED:20241215T201257Z
LAST-MODIFIED:20241215T201257Z
UID:4311-1736883000-1736886600@decodingdyslexiamn.org
SUMMARY:DDMN Parent Talk: SMART goals and accommodations
DESCRIPTION:Do you have questions about the goals and accommodations on your child’s IEP? What is a SMART goal? What accommodations should I ask for? Join us to discuss these questions and more! \nFREE to attend. Registration required. \nRegistration Link: https://us02web.zoom.us/meeting/register/tZwpf-qrqjgsGtL3v-TGua6uk2LQcbdnKpHf \nDue to the discussion of minors\, Decoding Dyslexia Minnesota prohibits videotaping and the improper disclosure of personally identifiable information derived from the discussion.
URL:https://decodingdyslexiamn.org/event/ddmn-parent-talk-smart-goals-and-accommodations-12/
LOCATION:Zoom
CATEGORIES:Virtual Monthly Parent Talks
ATTACH;FMTTYPE=image/jpeg:https://decodingdyslexiamn.org/wp-content/uploads/2023/09/AdobeStock_416566908-scaled.jpeg
END:VEVENT
BEGIN:VEVENT
DTSTART;TZID=America/Chicago:20250116T193000
DTEND;TZID=America/Chicago:20250116T203000
DTSTAMP:20260425T175005
CREATED:20241215T201516Z
LAST-MODIFIED:20241215T201516Z
UID:4313-1737055800-1737059400@decodingdyslexiamn.org
SUMMARY:DDMN Parent Talk: 504 Plans
DESCRIPTION:Is your child unable to get an IEP? Are you wondering about a 504 plan? What are the differences\, what is the process\, and what are your legal rights? Join us to discuss this topic and more! \nFree to attend. Registration is required. \nRegistration link: https://us02web.zoom.us/meeting/register/tZ0qf-GtqzkoH9dZaJiXvvDDd4p00jCOOzvR \nDue to the discussion of minors\, Decoding Dyslexia Minnesota prohibits videotaping and the improper disclosure of personally identifiable information derived from the discussion.
URL:https://decodingdyslexiamn.org/event/ddmn-parent-talk-504-plans-9/
LOCATION:Zoom
CATEGORIES:Virtual Monthly Parent Talks
ATTACH;FMTTYPE=image/jpeg:https://decodingdyslexiamn.org/wp-content/uploads/2023/09/AdobeStock_453697978-scaled.jpeg
END:VEVENT
BEGIN:VEVENT
DTSTART;TZID=America/Chicago:20250122T193000
DTEND;TZID=America/Chicago:20250122T203000
DTSTAMP:20260425T175005
CREATED:20241215T201839Z
LAST-MODIFIED:20241215T201839Z
UID:4317-1737574200-1737577800@decodingdyslexiamn.org
SUMMARY:DDMN Parent Talk: What to do if you and the school don't agree
DESCRIPTION:Are you struggling to come to an agreement with your child’s school about their IEP or 504 plan? Are you unsure what your options are if you can’t come to an agreement? Join me to learn about this topic. \nFree to attend. Registration is required. \nRegistration link: https://us02web.zoom.us/meeting/register/tZwrd-muqjwtGNRoBsAq5oqfD0RIpKUfo0v4 \nDue to the discussion of minors\, Decoding Dyslexia Minnesota prohibits videotaping and the improper disclosure of personally identifiable information derived from the discussion.
URL:https://decodingdyslexiamn.org/event/ddmn-parent-talk-what-to-do-if-you-and-the-school-dont-agree-3/
LOCATION:Zoom
CATEGORIES:Virtual Monthly Parent Talks
ATTACH;FMTTYPE=image/jpeg:https://decodingdyslexiamn.org/wp-content/uploads/2023/09/photo1-scaled.jpg
END:VEVENT
BEGIN:VEVENT
DTSTART;TZID=America/Chicago:20250129T193000
DTEND;TZID=America/Chicago:20250129T203000
DTSTAMP:20260425T175005
CREATED:20241115T202701Z
LAST-MODIFIED:20241215T202122Z
UID:4262-1738179000-1738182600@decodingdyslexiamn.org
SUMMARY:DDMN Parent Talk: Assistive Technology for Struggling Readers
DESCRIPTION:Are you wondering how to find helpful assistive technology for your struggling reader? Join me to learn where you can go to see what is available and how you can try out these amazing products. \nFree to attend. Registration Required. Registration Link: https://us02web.zoom.us/meeting/register/tZItdeGvrT8jGdQJQgk1umC5a3L8RZW5vcTA \nDue to the discussion of minors\, Decoding Dyslexia Minnesota prohibits videotaping and the improper disclosure of personally identifiable information derived from the discussion.
URL:https://decodingdyslexiamn.org/event/ddmn-parent-talk-assistive-technology-for-struggling-readers-4/
LOCATION:Zoom
CATEGORIES:Virtual Monthly Parent Talks
ATTACH;FMTTYPE=image/jpeg:https://decodingdyslexiamn.org/wp-content/uploads/2023/09/AdobeStock_471838919-scaled.jpeg
END:VEVENT
END:VCALENDAR