BEGIN:VCALENDAR
VERSION:2.0
PRODID:-//Decoding Dyslexia Minnesota - ECPv6.15.20//NONSGML v1.0//EN
CALSCALE:GREGORIAN
METHOD:PUBLISH
X-ORIGINAL-URL:https://decodingdyslexiamn.org
X-WR-CALDESC:Events for Decoding Dyslexia Minnesota
REFRESH-INTERVAL;VALUE=DURATION:PT1H
X-Robots-Tag:noindex
X-PUBLISHED-TTL:PT1H
BEGIN:VTIMEZONE
TZID:America/Chicago
BEGIN:DAYLIGHT
TZOFFSETFROM:-0600
TZOFFSETTO:-0500
TZNAME:CDT
DTSTART:20230312T080000
END:DAYLIGHT
BEGIN:STANDARD
TZOFFSETFROM:-0500
TZOFFSETTO:-0600
TZNAME:CST
DTSTART:20231105T070000
END:STANDARD
BEGIN:DAYLIGHT
TZOFFSETFROM:-0600
TZOFFSETTO:-0500
TZNAME:CDT
DTSTART:20240310T080000
END:DAYLIGHT
BEGIN:STANDARD
TZOFFSETFROM:-0500
TZOFFSETTO:-0600
TZNAME:CST
DTSTART:20241103T070000
END:STANDARD
BEGIN:DAYLIGHT
TZOFFSETFROM:-0600
TZOFFSETTO:-0500
TZNAME:CDT
DTSTART:20250309T080000
END:DAYLIGHT
BEGIN:STANDARD
TZOFFSETFROM:-0500
TZOFFSETTO:-0600
TZNAME:CST
DTSTART:20251102T070000
END:STANDARD
END:VTIMEZONE
BEGIN:VEVENT
DTSTART;TZID=America/Chicago:20241204T193000
DTEND;TZID=America/Chicago:20241204T203000
DTSTAMP:20260425T192132
CREATED:20241115T202032Z
LAST-MODIFIED:20241115T202032Z
UID:4251-1733340600-1733344200@decodingdyslexiamn.org
SUMMARY:DDMN Parent Talk: Could Your Struggling Reader Have Dyslexia? (New to Dyslexia)
DESCRIPTION:Are you worried about your struggling reader? Or has your child just been diagnosed with something that impacts 5-15% of the general population? Is the school not as helpful as you were hoping? Please join us for an informative and educational discussion on the general topic of dyslexia and where to find resources to help our children. This is geared toward parents of struggling readers with or without a diagnosis and is not intended for school administrators. \nFREE to attend; registration is required. https://us02web.zoom.us/meeting/register/tZctdOqppj4sG9Cc9wFfLMOs78QAbH3THBND \nRegistration Link: \nDue to the discussion of minors\, Decoding Dyslexia Minnesota prohibits videotaping and the improper disclosure of personally identifiable information derived from the discussion.
URL:https://decodingdyslexiamn.org/event/ddmn-parent-talk-could-your-struggling-reader-have-dyslexia-new-to-dyslexia-3/
LOCATION:Zoom
CATEGORIES:Virtual Monthly Parent Talks
ATTACH;FMTTYPE=image/jpeg:https://decodingdyslexiamn.org/wp-content/uploads/2023/09/photo2.jpg
END:VEVENT
BEGIN:VEVENT
DTSTART;TZID=America/Chicago:20241211T193000
DTEND;TZID=America/Chicago:20241211T203000
DTSTAMP:20260425T192132
CREATED:20241115T202313Z
LAST-MODIFIED:20241115T202313Z
UID:4255-1733945400-1733949000@decodingdyslexiamn.org
SUMMARY:DDMN Parent Talk: Talking With Your Child About Dyslexia
DESCRIPTION:Are you wondering how best to guide your child through their diagnosis of dyslexia or other reading disorders? Are you looking for resources to help your child understand their reading struggles? Join us to discuss these questions and more! \nFREE to attend. Registration required.https://us02web.zoom.us/meeting/register/tZEldOCrqTwiE9SA5SajcFMDcsunm2y7wQcL \nRegistration Link: \nDue to the discussion of minors\, Decoding Dyslexia Minnesota prohibits videotaping and the improper disclosure of personally identifiable information derived from the discussion.
URL:https://decodingdyslexiamn.org/event/ddmn-parent-talk-talking-with-your-child-about-dyslexia-4/
LOCATION:Zoom
CATEGORIES:Virtual Monthly Parent Talks
ATTACH;FMTTYPE=image/jpeg:https://decodingdyslexiamn.org/wp-content/uploads/2023/09/AdobeStock_550270464-scaled.jpeg
END:VEVENT
BEGIN:VEVENT
DTSTART;TZID=America/Chicago:20241217T193000
DTEND;TZID=America/Chicago:20241217T203000
DTSTAMP:20260425T192132
CREATED:20241115T202430Z
LAST-MODIFIED:20241115T202430Z
UID:4257-1734463800-1734467400@decodingdyslexiamn.org
SUMMARY:DDMN Parent Talk: Preparing for an IEP or 504 Meeting
DESCRIPTION:Are you preparing for an IEP meeting and have no idea what to expect or how to prepare? Join me and get some tips and tricks so you will be ready to advocate for your struggling reader. \nFREE to attend. Registration required. \nRegistration Link: https://us02web.zoom.us/meeting/register/tZItceCspzssHND-UoeFDR7iJrnT9oawD0Vz \nDue to the discussion of minors\, Decoding Dyslexia Minnesota prohibits videotaping and the improper disclosure of personally identifiable information derived from the discussion.
URL:https://decodingdyslexiamn.org/event/ddmn-parent-talk-preparing-for-an-iep-or-504-meeting-9/
LOCATION:Zoom
CATEGORIES:Virtual Monthly Parent Talks
ATTACH;FMTTYPE=image/jpeg:https://decodingdyslexiamn.org/wp-content/uploads/2023/09/AdobeStock_416600221-scaled.jpeg
END:VEVENT
BEGIN:VEVENT
DTSTART;TZID=America/Chicago:20241218T193000
DTEND;TZID=America/Chicago:20241218T203000
DTSTAMP:20260425T192132
CREATED:20241115T202538Z
LAST-MODIFIED:20241115T202538Z
UID:4259-1734550200-1734553800@decodingdyslexiamn.org
SUMMARY:DDMN Parent Talk: SMART goals and accommodations
DESCRIPTION:Do you have questions about the goals and accommodations on your child’s IEP? What is a SMART goal? What accommodations should I ask for? Join us to discuss these questions and more! \nFREE to attend. Registration required. \nRegistration Link: https://us02web.zoom.us/meeting/register/tZAvc-qurDMrH9ANldXDVIHkr6FhCXbwnESf \nDue to the discussion of minors\, Decoding Dyslexia Minnesota prohibits videotaping and the improper disclosure of personally identifiable information derived from the discussion.
URL:https://decodingdyslexiamn.org/event/ddmn-parent-talk-smart-goals-and-accommodations-11/
LOCATION:Zoom
CATEGORIES:Virtual Monthly Parent Talks
ATTACH;FMTTYPE=image/jpeg:https://decodingdyslexiamn.org/wp-content/uploads/2023/09/AdobeStock_269364634-scaled.jpeg
END:VEVENT
BEGIN:VEVENT
DTSTART;TZID=America/Chicago:20241219T193000
DTEND;TZID=America/Chicago:20241219T203000
DTSTAMP:20260425T192132
CREATED:20241218T021849Z
LAST-MODIFIED:20241218T021849Z
UID:4324-1734636600-1734640200@decodingdyslexiamn.org
SUMMARY:DDMN Parent Talk: Assistive Technology for Struggling Readers
DESCRIPTION:Are you wondering how to find helpful assistive technology for your struggling reader? Join me to learn where you can go to see what is available and how you can try out these amazing products. \nFree to attend. Registration Required. Registration Link:https://us02web.zoom.us/meeting/register/tZUtc-ygrTwrE900terYaOVfGfs9JGWn4mki \nDue to the discussion of minors\, Decoding Dyslexia Minnesota prohibits videotaping and the improper disclosure of personally identifiable information derived from the discussion.
URL:https://decodingdyslexiamn.org/event/ddmn-parent-talk-assistive-technology-for-struggling-readers-5/
LOCATION:Zoom
CATEGORIES:Virtual Monthly Parent Talks
ATTACH;FMTTYPE=image/jpeg:https://decodingdyslexiamn.org/wp-content/uploads/2023/09/AdobeStock_471838919-scaled.jpeg
END:VEVENT
END:VCALENDAR