BEGIN:VCALENDAR
VERSION:2.0
PRODID:-//Decoding Dyslexia Minnesota - ECPv6.15.20//NONSGML v1.0//EN
CALSCALE:GREGORIAN
METHOD:PUBLISH
X-ORIGINAL-URL:https://decodingdyslexiamn.org
X-WR-CALDESC:Events for Decoding Dyslexia Minnesota
REFRESH-INTERVAL;VALUE=DURATION:PT1H
X-Robots-Tag:noindex
X-PUBLISHED-TTL:PT1H
BEGIN:VTIMEZONE
TZID:America/Chicago
BEGIN:DAYLIGHT
TZOFFSETFROM:-0600
TZOFFSETTO:-0500
TZNAME:CDT
DTSTART:20230312T080000
END:DAYLIGHT
BEGIN:STANDARD
TZOFFSETFROM:-0500
TZOFFSETTO:-0600
TZNAME:CST
DTSTART:20231105T070000
END:STANDARD
BEGIN:DAYLIGHT
TZOFFSETFROM:-0600
TZOFFSETTO:-0500
TZNAME:CDT
DTSTART:20240310T080000
END:DAYLIGHT
BEGIN:STANDARD
TZOFFSETFROM:-0500
TZOFFSETTO:-0600
TZNAME:CST
DTSTART:20241103T070000
END:STANDARD
BEGIN:DAYLIGHT
TZOFFSETFROM:-0600
TZOFFSETTO:-0500
TZNAME:CDT
DTSTART:20250309T080000
END:DAYLIGHT
BEGIN:STANDARD
TZOFFSETFROM:-0500
TZOFFSETTO:-0600
TZNAME:CST
DTSTART:20251102T070000
END:STANDARD
END:VTIMEZONE
BEGIN:VEVENT
DTSTART;TZID=America/Chicago:20241106T193000
DTEND;TZID=America/Chicago:20241106T203000
DTSTAMP:20260425T205527
CREATED:20241017T124003Z
LAST-MODIFIED:20241017T124144Z
UID:4199-1730921400-1730925000@decodingdyslexiamn.org
SUMMARY:DDMN Parent Talk: Could Your Struggling Reader Have Dyslexia? (New to Dyslexia)
DESCRIPTION:Are you worried about your struggling reader? Or has your child just been diagnosed with something that impacts 5-15% of the general population? Is the school not as helpful as you were hoping? Please join us for an informative and educational discussion on the general topic of dyslexia and where to find resources to help our children. This is geared toward parents of struggling readers with or without a diagnosis and is not intended for school administrators. \nFREE to attend; registration is required. \nRegistration Link: https://us02web.zoom.us/meeting/register/tZYld-6qrDwvHd3OOWR6TuIJLjpb0fMM1tzE \nDue to the discussion of minors\, Decoding Dyslexia Minnesota prohibits videotaping and the improper disclosure of personally identifiable information derived from the discussion.
URL:https://decodingdyslexiamn.org/event/ddmn-parent-talk-could-your-struggling-reader-have-dyslexia-new-to-dyslexia-2/
LOCATION:Zoom
CATEGORIES:Virtual Monthly Parent Talks
ATTACH;FMTTYPE=image/jpeg:https://decodingdyslexiamn.org/wp-content/uploads/2023/09/photo2.jpg
END:VEVENT
BEGIN:VEVENT
DTSTART;TZID=America/Chicago:20241113T193000
DTEND;TZID=America/Chicago:20241113T203000
DTSTAMP:20260425T205527
CREATED:20241017T124508Z
LAST-MODIFIED:20241017T124508Z
UID:4204-1731526200-1731529800@decodingdyslexiamn.org
SUMMARY:DDMN Parent Talk: 504 Plans
DESCRIPTION:Is your child unable to get an IEP? Are you wondering about a 504 plan? What are the differences\, what is the process\, and what are your legal rights? Join us to discuss this topic and more! \nFree to attend. Registration is required. \nRegistration link: https://us02web.zoom.us/meeting/register/tZYrfuutpzItHdTwa7bz3dBHrVZEHaBqyOlN \nDue to the discussion of minors\, Decoding Dyslexia Minnesota prohibits videotaping and the improper disclosure of personally identifiable information derived from the discussion.
URL:https://decodingdyslexiamn.org/event/ddmn-parent-talk-504-plans-8/
LOCATION:Zoom
CATEGORIES:Virtual Monthly Parent Talks
ATTACH;FMTTYPE=image/jpeg:https://decodingdyslexiamn.org/wp-content/uploads/2023/09/AdobeStock_453697978-scaled.jpeg
END:VEVENT
BEGIN:VEVENT
DTSTART;TZID=America/Chicago:20241120T193000
DTEND;TZID=America/Chicago:20241120T203000
DTSTAMP:20260425T205527
CREATED:20241017T124811Z
LAST-MODIFIED:20241017T124811Z
UID:4208-1732131000-1732134600@decodingdyslexiamn.org
SUMMARY:DDMN Parent Talk: Preparing for an IEP or 504 Meeting
DESCRIPTION:Are you preparing for an IEP meeting and have no idea what to expect or how to prepare? Join me and get some tips and tricks so you will be ready to advocate for your struggling reader. \nFREE to attend. Registration required. \nRegistration Link: https://us02web.zoom.us/meeting/register/tZ0pf-ihpjwoGtJ40YSvAh5FxqybEVXKKXor \nDue to the discussion of minors\, Decoding Dyslexia Minnesota prohibits videotaping and the improper disclosure of personally identifiable information derived from the discussion.
URL:https://decodingdyslexiamn.org/event/ddmn-parent-talk-preparing-for-an-iep-or-504-meeting-8/
LOCATION:Zoom
CATEGORIES:Virtual Monthly Parent Talks
ATTACH;FMTTYPE=image/jpeg:https://decodingdyslexiamn.org/wp-content/uploads/2023/09/AdobeStock_416600221-scaled.jpeg
END:VEVENT
BEGIN:VEVENT
DTSTART;TZID=America/Chicago:20241121T193000
DTEND;TZID=America/Chicago:20241121T203000
DTSTAMP:20260425T205527
CREATED:20241017T124952Z
LAST-MODIFIED:20241017T124952Z
UID:4210-1732217400-1732221000@decodingdyslexiamn.org
SUMMARY:DDMN Parent Talk: SMART goals and accommodations
DESCRIPTION:Do you have questions about the goals and accommodations on your child’s IEP? What is a SMART goal? What accommodations should I ask for? Join us to discuss these questions and more! \nFREE to attend. Registration required. \nRegistration Link: https://us02web.zoom.us/meeting/register/tZwkdu2hrz0sHdE1cb_Dzjsv8qJ-m268EoXV \nDue to the discussion of minors\, Decoding Dyslexia Minnesota prohibits videotaping and the improper disclosure of personally identifiable information derived from the discussion.
URL:https://decodingdyslexiamn.org/event/ddmn-parent-talk-smart-goals-and-accommodations-10/
LOCATION:Zoom
CATEGORIES:Virtual Monthly Parent Talks
ATTACH;FMTTYPE=image/jpeg:https://decodingdyslexiamn.org/wp-content/uploads/2023/09/AdobeStock_269364634-scaled.jpeg
END:VEVENT
END:VCALENDAR