BEGIN:VCALENDAR
VERSION:2.0
PRODID:-//Decoding Dyslexia Minnesota - ECPv6.15.20//NONSGML v1.0//EN
CALSCALE:GREGORIAN
METHOD:PUBLISH
X-ORIGINAL-URL:https://decodingdyslexiamn.org
X-WR-CALDESC:Events for Decoding Dyslexia Minnesota
REFRESH-INTERVAL;VALUE=DURATION:PT1H
X-Robots-Tag:noindex
X-PUBLISHED-TTL:PT1H
BEGIN:VTIMEZONE
TZID:America/Chicago
BEGIN:DAYLIGHT
TZOFFSETFROM:-0600
TZOFFSETTO:-0500
TZNAME:CDT
DTSTART:20230312T080000
END:DAYLIGHT
BEGIN:STANDARD
TZOFFSETFROM:-0500
TZOFFSETTO:-0600
TZNAME:CST
DTSTART:20231105T070000
END:STANDARD
BEGIN:DAYLIGHT
TZOFFSETFROM:-0600
TZOFFSETTO:-0500
TZNAME:CDT
DTSTART:20240310T080000
END:DAYLIGHT
BEGIN:STANDARD
TZOFFSETFROM:-0500
TZOFFSETTO:-0600
TZNAME:CST
DTSTART:20241103T070000
END:STANDARD
BEGIN:DAYLIGHT
TZOFFSETFROM:-0600
TZOFFSETTO:-0500
TZNAME:CDT
DTSTART:20250309T080000
END:DAYLIGHT
BEGIN:STANDARD
TZOFFSETFROM:-0500
TZOFFSETTO:-0600
TZNAME:CST
DTSTART:20251102T070000
END:STANDARD
END:VTIMEZONE
BEGIN:VEVENT
DTSTART;TZID=America/Chicago:20241002T193000
DTEND;TZID=America/Chicago:20241002T203000
DTSTAMP:20260425T224220
CREATED:20240913T141042Z
LAST-MODIFIED:20240913T141042Z
UID:4138-1727897400-1727901000@decodingdyslexiamn.org
SUMMARY:DDMN Parent Talk: Could Your Struggling Reader Have Dyslexia? (New to Dyslexia)
DESCRIPTION:Are you worried about your struggling reader? Or has your child just been diagnosed with something that impacts 5-15% of the general population? Is the school not as helpful as you were hoping? Please join us for an informative and educational discussion on the general topic of dyslexia and where to find resources to help our children. This is geared toward parents of struggling readers with or without a diagnosis and is not intended for school administrators. \nFREE to attend; registration is required. \nRegistration Link: https://us02web.zoom.us/meeting/register/tZMof-Ggqj8oG9RoABWh7XPog2dVZG4V9eJx \nDue to the discussion of minors\, Decoding Dyslexia Minnesota prohibits videotaping and the improper disclosure of personally identifiable information derived from the discussion.
URL:https://decodingdyslexiamn.org/event/ddmn-parent-talk-could-your-struggling-reader-have-dyslexia-new-to-dyslexia/
LOCATION:Zoom
CATEGORIES:Virtual Monthly Parent Talks
ATTACH;FMTTYPE=image/jpeg:https://decodingdyslexiamn.org/wp-content/uploads/2023/09/photo2.jpg
END:VEVENT
BEGIN:VEVENT
DTSTART;TZID=America/Chicago:20241016T193000
DTEND;TZID=America/Chicago:20241016T203000
DTSTAMP:20260425T224220
CREATED:20240913T141959Z
LAST-MODIFIED:20240913T141959Z
UID:4145-1729107000-1729110600@decodingdyslexiamn.org
SUMMARY:DDMN Parent Talk: Preparing for an IEP or 504 Meeting
DESCRIPTION:Are you preparing for an IEP meeting and have no idea what to expect or how to prepare? Join me and get some tips and tricks so you will be ready to advocate for your struggling reader. \nFREE to attend. Registration required. \nRegistration Link: https://us02web.zoom.us/meeting/register/tZMkdeqtqzgqH9ah7S_9xYSUw7lIghWIBbpD \nDue to the discussion of minors\, Decoding Dyslexia Minnesota prohibits videotaping and the improper disclosure of personally identifiable information derived from the discussion.
URL:https://decodingdyslexiamn.org/event/ddmn-parent-talk-preparing-for-an-iep-or-504-meeting-7/
LOCATION:Zoom
CATEGORIES:Virtual Monthly Parent Talks
ATTACH;FMTTYPE=image/jpeg:https://decodingdyslexiamn.org/wp-content/uploads/2023/09/AdobeStock_416600221-scaled.jpeg
END:VEVENT
BEGIN:VEVENT
DTSTART;TZID=America/Chicago:20241021T193000
DTEND;TZID=America/Chicago:20241021T203000
DTSTAMP:20260425T224220
CREATED:20240913T142131Z
LAST-MODIFIED:20240913T142131Z
UID:4147-1729539000-1729542600@decodingdyslexiamn.org
SUMMARY:DDMN Parent Talk: SMART goals and accommodations
DESCRIPTION:Do you have questions about the goals and accommodations on your child’s IEP? What is a SMART goal? What accommodations should I ask for? Join us to discuss these questions and more! \nFREE to attend. Registration required. \nRegistration Link: https://us02web.zoom.us/meeting/register/tZ0tcu-vqzItHNRgHM4YrSWcTQD3UWGIKHi1 \nDue to the discussion of minors\, Decoding Dyslexia Minnesota prohibits videotaping and the improper disclosure of personally identifiable information derived from the discussion.
URL:https://decodingdyslexiamn.org/event/ddmn-parent-talk-smart-goals-and-accommodations-9/
LOCATION:Zoom
CATEGORIES:Virtual Monthly Parent Talks
ATTACH;FMTTYPE=image/jpeg:https://decodingdyslexiamn.org/wp-content/uploads/2023/09/AdobeStock_269364634-scaled.jpeg
END:VEVENT
BEGIN:VEVENT
DTSTART;TZID=America/Chicago:20241028T193000
DTEND;TZID=America/Chicago:20241028T203000
DTSTAMP:20260425T224220
CREATED:20240924T225942Z
LAST-MODIFIED:20240924T225942Z
UID:4162-1730143800-1730147400@decodingdyslexiamn.org
SUMMARY:DDMN Parent Talk: Assistive Technology for Struggling Readers
DESCRIPTION:Are you wondering how to find helpful assistive technology for your struggling reader? Join me to learn where you can go to see what is available and how you can try out these amazing products. \nFree to attend. Registration is required. \nRegistration link: https://us02web.zoom.us/meeting/register/tZModeqpqTgqH9JBDDtWShXk2ondjTDE-At_ \nDue to the discussion of minors\, Decoding Dyslexia Minnesota prohibits videotaping and the improper disclosure of personally identifiable information derived from the discussion.
URL:https://decodingdyslexiamn.org/event/ddmn-parent-talk-assistive-technology-for-struggling-readers-3/
LOCATION:Zoom
CATEGORIES:Virtual Monthly Parent Talks
ATTACH;FMTTYPE=image/jpeg:https://decodingdyslexiamn.org/wp-content/uploads/2023/09/AdobeStock_490364707-scaled.jpeg
END:VEVENT
END:VCALENDAR